BEGIN:VCALENDAR
VERSION:2.0
PRODID:-//Gratis-in-Berlin//NONSGML kigkonsult.se iCalcreator 2.14//
METHOD:PUBLISH
X-WR-CALNAME:Gratis-in-Berlin Tip Kalender
X-WR-CALDESC:Erhalte Gratis-in-Berlin Tips in deinem Kalender
BEGIN:VEVENT
UID:20260420T174123UTC-0777KZVOSU@Gratis-in-Berlin
DTSTAMP:20260420T174123Z
DESCRIPTION:Mit Stiften und Aquarellfarbe wird sich der Darstellung alltäglic
 her Szenen\, Natur\, Menschen\, Gebäuden\, etc. gewidmet. Draußen\, vor Ort\,
  wird mit schnell angefertigten Skizzen das Gesehene festgehalten. Es werd
 en auch Grundlagen des Zeichnens und Aquarellierens vermittelt. Bitte brin
 gt ein Skizzenbuch mit. Die Angebote richten sich insbesondere an Menschen
  mit Migrationskompetenz\, aber auch Kunstinteressierte aus der Nachbarsch
 aft sind herzlich willkommen. Auf Nachfrage können die Kurse in Englisch\, gg
 fs. auch in anderen Sprachen gehalten werden. Der Eintritt ist bei allen V
 eranstaltungen frei. Arbeitsmaterialien sind vorhanden. Für die Kurse sind kein
 e Vorkenntnisse erforderlich\, ebenso ist eine Anmeldung nicht notwendig. 
 Weitere Informationen unter: Tel.: 030/28032996\; Mobil: 015737523889\; re
 siart@aufwind-berlin.de Das Projekt resiART wird gefördert aus Mitteln des be
 zirklichen Integrationsfonds des Bezirks Reinickendorf. Der Integrationsfo
 nds ist eine Maßnahme des Gesamtkonzepts zur Integration und Partizipation 
 Geflüchteter des Senats von Berlin. Das Projekt Galerie Interkulturell wird kof
 inanziert von der Europäischen Kommission\, gefördert aus dem Programm ?Kultur 
 und Bibliotheken im Stadtteil ? KUBIST?. resiART &amp\; Galerie Interkultu
 rell sind Projekte von Aufwind in Kooperation mit dem Bezirksamt Reinicken
 dorf von Berlin\, Fachbereich Kunst und Geschichte.\n\nViel Spass wünscht Grati
 s-in-Berlin\n\nLink zum Tip: https://www.gratis-in-berlin.de/kunst/item/20
 72351-urban-sketching-mit-shahla-aghapour\nZu den Gratis-in-Berlin Angebot
 en: http://www.gratis-in-berlin.de\n
DTSTART;VALUE=DATE:20250715
DTEND;VALUE=DATE:20250716
SUMMARY:Urban Sketching mit Shahla Aghapour
END:VEVENT
END:VCALENDAR
