BEGIN:VCALENDAR
VERSION:2.0
PRODID:-//Gratis-in-Berlin//NONSGML kigkonsult.se iCalcreator 2.14//
METHOD:PUBLISH
X-WR-CALNAME:Gratis-in-Berlin Tip Kalender
X-WR-CALDESC:Erhalte Gratis-in-Berlin Tips in deinem Kalender
BEGIN:VEVENT
UID:20260422T130806UTC-6663hopvx6@Gratis-in-Berlin
DTSTAMP:20260422T130806Z
DESCRIPTION:Die Aktgalerie www.die-aktgalerie.de Krossener Straße 34 10245 B
 erlin-Friedrichshain Fr / Sa / So 15 ? 19 Uhr6.Juni - verlängert bis 27. Jul
 i 2025Vernissage: 6.6.\, 19 Uhr?Flair ? Ausstrahlung? von Chris Bitchcowsk
 y und Jochen Deckert Die Bildstrecken dieser Ausstellung beziehen sich auf
  die individuelle Ausstrahlung des unbekleideten menschlichen Körpers! Unser 
 menschlicher Körper kann eine starke nonverbale\, oft auch unbewusste Ausdruc
 ksfähigkeit entwickeln! Unser Körper ?strahlt? dann aus\, wie wir uns fühlen und in 
 welcher gegenwärtigen Lebenssituation wir uns befinden oder in der Vergangen
 heit befunden haben! Chris Bitchkowsky versetzt seine Modelle dabei vorwie
 gend in natürliche und tageslichtbezogene Bildsituationen! Jochen Deckert kombi
 niert einzelne ausdrucksstarke Fotos seiner Modelle szenisch zur Darstellu
 ng allgemein-menschlicher Situationen!\n\nViel Spass wünscht Gratis-in-Berlin\n
 \nLink zum Tip: \nZu den Gratis-in-Berlin Angeboten: http://www.gratis-in-
 berlin.de\n
DTSTART;VALUE=DATE:20250606
DTEND;VALUE=DATE:20250728
SUMMARY:Die Aktgalerie / 'Flair-Ausstrahlung' von Chris Bitchcowsky und Joc
 hen Deckert (Fr/Sa/So)
END:VEVENT
END:VCALENDAR
