BEGIN:VCALENDAR
VERSION:2.0
PRODID:-//Gratis-in-Berlin//NONSGML kigkonsult.se iCalcreator 2.14//
METHOD:PUBLISH
X-WR-CALNAME:Gratis-in-Berlin Tip Kalender
X-WR-CALDESC:Erhalte Gratis-in-Berlin Tips in deinem Kalender
BEGIN:VEVENT
UID:20260419T120227UTC-5790uZDKaA@Gratis-in-Berlin
DTSTAMP:20260419T120227Z
DESCRIPTION:Liebe Freunde der Kunst\, Sie sind herzlich zu der Führung durch die
  Kunstausstellung ?Balance Loss? eingeladen! Die Kuratorin\, Elena Schütz\, wir
 d Sie in das Konzept der Ausstellung einweihen und die beteiligten Künstler*inn
 en präsentieren\; dabei geht die Kuratorin thematisch auf jedes einzelne Kun
 stwerk ein. Die Kunstausstellung ?Balance Loss? wurde im Rahmen des 9. Jah
 restags der PostArt Gallery eröffnet. Die Künstler*innen ? Elena Gluth\, Alice Kon
 okhova\, Jana Federov\, Julia Filipchuk\, Tai Shevchuk\, Karina Bondarenko
 \, Margarita Wolff\, Dima Miroshnichenko\, und H2I ? behandeln in ihren We
 rken die komplexen Themen von Gleich- und Ungleichgewicht sowohl im Leben 
 als auch in der Kunst. Die neun Künstler*innen bringen ihre einzigartigen Persp
 ektiven und Techniken in die Ausstellung ein\, was eine faszinierende Viel
 falt an Ausdrucksformen schafft. Von der detaillierten Grafik bis hin zur 
 konzeptionellen Malerei\, jede Technik erzählt ihre eigene Geschichte. Ein w
 eiteres Highlight sind die dekorativen Lichtobjekte\, die mit Texturen und
  Harz gestaltet sind. Diese einzigartigen Stücke fangen nicht nur das Licht auf
  beeindruckende Weise ein\, sondern verleihen der Ausstellung auch eine be
 sondere Atmosphäre\, die zum Staunen einlädt. Die Werke sind nicht nur ästhetisc
 h ansprechend\, sondern laden auch zur Reflexion über die Herausforderungen ein
 \, mit denen wir in einer sich ständig verändernden Welt konfrontiert sind. Ei
 n besonderes Augenmerk liegt auch auf den künstlerisch gestalteten keramischen 
 Vasen\, die mit konzeptioneller Malerei verziert sind. Diese Objekte verbi
 nden Funktionalität mit künstlerischem Ausdruck und bieten eine neue Dimension de
 r Betrachtung. Die Ausstellung schafft einen Raum für Dialog und Interaktion\, 
 in dem die Besucher*innen ihre eigenen Interpretationen und Gefühle zu den ausg
 estellten Werken teilen können. Seien Sie Teil dieses inspirierenden Erlebnis
 ses\, feiern Sie mit uns den Jahrestag der Galerie und entdecken Sie\, wie
  die Kunst die Balance in unserem Leben wiederherstellen kann! Die öffentlich
 e Führung findet am 14. Mai 2025\, um 19 Uhr. Sie können gerne einen kostenfreien 
 individuellen Besuchs- und Führungstermin vereinbaren unter contact@art-greed.c
 om. Die Finissage ist am 23. Mai 2025\, ab 19 Uhr. Der Eintritt ist frei. 
 Wir freuen uns auf Ihren Besuch! PostArt Gallery Schustehrusstraße 47 10585
  Berlin-Charlottenburg\n\nViel Spass wünscht Gratis-in-Berlin\n\nLink zum Tip: 
 \nZu den Gratis-in-Berlin Angeboten: http://www.gratis-in-berlin.de\n
DTSTART;VALUE=DATE:20250514
DTEND;VALUE=DATE:20250515
SUMMARY:?Balance Loss? ? kuratorische Führung durch die Ausstellung
END:VEVENT
END:VCALENDAR
