BEGIN:VCALENDAR
VERSION:2.0
PRODID:-//Gratis-in-Berlin//NONSGML kigkonsult.se iCalcreator 2.14//
METHOD:PUBLISH
X-WR-CALNAME:Gratis-in-Berlin Tip Kalender
X-WR-CALDESC:Erhalte Gratis-in-Berlin Tips in deinem Kalender
BEGIN:VEVENT
UID:20260419T171103UTC-8149tUR6am@Gratis-in-Berlin
DTSTAMP:20260419T171103Z
DESCRIPTION:Offene Kalligraphie-Werkstatt in NeuköllnFür alle ? kostenlos\, ohne An
 meldung &amp\; ganz ohne Vorkenntnisse!Taucht ein in die Kunst der schönen Bu
 chstaben.Probiert in entspannter Atmosphäre verschiedene Stile der Kalligrap
 hie aus ? von klassisch bis experimentell. Lernt die Grundlagen\, gestalte
 t eine Karte oder euer Lieblingszitat. Verfasst einen schönen Brief oder verz
 iert euren Namen kunstvoll. Mit Carla @skribule üben wir gemeinsam\, Schritt für Sch
 ritt.Donnerstag\, 07.05.2026. 16?20 Uhr ? Einstieg jederzeit möglich!Weitere 
 Termine:&nbsp\;09.07.2026\, 06.08.2026Stadtteilzentrum Kiezbegegnung\, War
 thestraße 73\, 12051 Berlin (S + U Hermannstr.)Kostenlos &amp\; ohne Anmeld
 ung. Keine Vorkenntnisse nötig. Material ist vorhanden\, kommt einfach vorbei
 .\n\nViel Spass wünscht Gratis-in-Berlin\n\nLink zum Tip: https://www.gratis-in
 -berlin.de/kunst/item/2072643-offene-kalligraphie-werkstatt-in-neukoelln\n
 Zu den Gratis-in-Berlin Angeboten: http://www.gratis-in-berlin.de\n
DTSTART;VALUE=DATE:20260507
DTEND;VALUE=DATE:20260508
SUMMARY:Offene Kalligraphie-Werkstatt in Neukölln
END:VEVENT
END:VCALENDAR
