BEGIN:VCALENDAR
VERSION:2.0
PRODID:-//Gratis-in-Berlin//NONSGML kigkonsult.se iCalcreator 2.14//
METHOD:PUBLISH
X-WR-CALNAME:Gratis-in-Berlin Tip Kalender
X-WR-CALDESC:Erhalte Gratis-in-Berlin Tips in deinem Kalender
BEGIN:VEVENT
UID:20260420T101631UTC-1543tnFiSI@Gratis-in-Berlin
DTSTAMP:20260420T101631Z
DESCRIPTION:Der Bunker West in Berlin präsentiert vom 12. bis 15. Juni 2025 e
 in außergewöhnlichesAusstellungsprojekt zur diesjährigen Berlin Biennale: SOHN.S
 UCHT.VATER. Die Ausstellung rückt die künstlerischen Positionen von Vater und Sohn\,
  Hans-Ludwig Hanau (*1946) und Anatol Hanau (*1986)\, in einen spannungsvo
 llen Dialog\, der Nähe und Distanz sowie hochaktuelle und oft tabuisierte Th
 emen auf sensible Weise verhandelt.Programm:?? Ein vielfältiges Angebot mit 
 Gesprächen\, Live-Musik und Fashion Performance?? Drinks vom renommierten Be
 rliner Restaurant Katz Orange?? Die Künstler sind an allen Tagen persönlich vor Or
 t?? Eine Ausstellung\, die berührt\, überrascht und verbindetDO\, 12. Juni ? Verniss
 age\, 19?22 Uhr Pünktlich kommen lohnt sich: Eröffnung der Ausstellung um 19 Uhr m
 it einer einzigartigen Fashion Performance?? Mode von Isabel Vollrath und 
 Luckynelly?? Moderiertes Künstlergespräch mit Prof. Dr. Rainer Spanagel und Prof.
  Dr. Peter Kirsch vom Z.I. in Mannheim?? Live-Musik von Makoto Inoue (japa
 nischer Mönch &amp\; elektronischer Klangkünstler)FR\, 13. Juni\, 17?22 Uhr?? Live
 -Musik von Makoto Inoue?? Künstler vor Ort für GesprächeSA\, 14. Juni\, 17?22 Uhr?? Li
 ve-Klaviermusik?? Künstler vor Ort für GesprächeSO\, 15. Juni ? Finissage\, 12?18 Uhr?
 ? Lesung von Gedichten?? Gong-KonzertOrt:Bunker WestHohenzollerndamm 12014
 199 Berlin\n\nViel Spass wünscht Gratis-in-Berlin\n\nLink zum Tip: \nZu den Gra
 tis-in-Berlin Angeboten: http://www.gratis-in-berlin.de\n
DTSTART;VALUE=DATE:20250612
DTEND;VALUE=DATE:20250616
SUMMARY:Im Bunker West: Ausstellung 'Sohn.Sucht.Vater' - ein intimer Dialog
  im Rahmen der Berlin Biennale
END:VEVENT
END:VCALENDAR
