BEGIN:VCALENDAR
VERSION:2.0
PRODID:-//Gratis-in-Berlin//NONSGML kigkonsult.se iCalcreator 2.14//
METHOD:PUBLISH
X-WR-CALNAME:Gratis-in-Berlin Tip Kalender
X-WR-CALDESC:Erhalte Gratis-in-Berlin Tips in deinem Kalender
BEGIN:VEVENT
UID:20260422T130250UTC-2785pxprtn@Gratis-in-Berlin
DTSTAMP:20260422T130250Z
DESCRIPTION:Eröffnung:Do 12. Juni\, 19 UhrKünstler*innen: Büro für kuratorische Forschun
 g\, Susanne RingSusanne Ring: Körper Speicher TempelSusanne Rings künstlerische Pr
 axis umfasst figurative Skulptur\, Malerei und Zeichnung. Aus diesem vielg
 estaltigen Fundus schöpfend\, kombiniert sie dessen Elemente je nach örtlichen G
 egebenheiten mit Mobiliar\, Textilien oder Werkstoffen zu raumgreifenden I
 nstallationen. Ihre keramische Skulpturen sind wie Gefäße\, die qua Kontext 
 mit Inhalt gefüllt werden ? rätselhafte Wesen aus gebranntem Ton\, die sich auf d
 ünnen Stelzenbeinen kühn an der Grenze von Statik und Materialität bewegen. Durch einf
 ache Merkmale wie Köpfe\, Arme und Beine als körperliche Figuren lesbar\, gehen 
 die Skulpturen jedoch in ihrer offenen\, hybriden Erscheinung über jedes protot
 ypische Körperbild hinaus. Als dünnwandige Hohlkörper\, vielköpfig mit kleinen fühlerartigen 
 Armen oder spitzen weißen Milchzähnen ausgestattet\, erfassen sie seismograph
 isch Projektionen und Widerstände und laden zur empathischen Erkundung ein. 
 In ihrer disparaten Präsenz hinterfragen sie normative Schönheitsvorstellungen\
 , binäre oder nicht-binäre Zuschreibungen\, Optimierungs- und Regulierungs&shy
 \;zwänge und verkörpern buchstäblich das Recht auf Nicht-Identität und Ambivalenz. 
 Rings unverwechselbares skulpturales Vokabular formt eine plastische Sprac
 he\, die nicht nur über Körper spricht\, sondern selbst zum Körper wird ? nicht als ?
 integrales Ganzes\, sondern als ein Konstrukt\, das sich auch als solches 
 zu erkennen gibt? (Stefan Lüddemann). Ihre hybriden\, em&shy\;pfind&shy\;samen 
 Körperwesen ? latent gefährliche Systemsprenger ? stehen einzeln oder als Forma
 tion versammelt im Raum\, ausgestattet mit einer ambivalenten Wirkmacht vo
 n Stärke und Fragilität\, von Aktivität\, Hilfsbedürftigkeit und Souveränität.kuratiert v
 on Veronika WitteBüro für kuratorische Forschung: Artministration Teil 1Die Aus
 stellungsreihe Artministration erkundet die Arbeitsfelder von Künstler:innen un
 d Kurator:innen mit Blick auf private\, berufliche und öffentliche Verwaltung
 spraktiken und -prozesse sowie damit einhergehende Wissensformen. Für Artminist
 ration Teil 1 sind die Besucher:innen ins Büro für kuratorische Forschung einge
 laden\, um Themenvorschläge für eine Open Call-Ausstellung einzureichen. Die künstleri
 schen Bewerbungen auf den Open Call werden gemeinsam mit den Besucher:inne
 n juriert und schließlich in einer Ausstellung präsentiert. Während der Sprechz
 eiten bietet das Team des Büros kuratorische Beratung an.kuratiert von Julia He
 unemann und Ulrike Riebel\n\nViel Spass wünscht Gratis-in-Berlin\n\nLink zum Ti
 p: \nZu den Gratis-in-Berlin Angeboten: http://www.gratis-in-berlin.de\n
DTSTART;VALUE=DATE:20250612
DTEND;VALUE=DATE:20250810
SUMMARY:Doppelausstellung: Körper Speicher Tempel / Artministration (Di - Sa)
END:VEVENT
END:VCALENDAR
