BEGIN:VCALENDAR
VERSION:2.0
PRODID:-//Gratis-in-Berlin//NONSGML kigkonsult.se iCalcreator 2.14//
METHOD:PUBLISH
X-WR-CALNAME:Gratis-in-Berlin Tip Kalender
X-WR-CALDESC:Erhalte Gratis-in-Berlin Tips in deinem Kalender
BEGIN:VEVENT
UID:20260422T143202UTC-9379AwWBUR@Gratis-in-Berlin
DTSTAMP:20260422T143202Z
DESCRIPTION:Es ist Zeit\, Abschied zu nehmen. Nicht von Dir ? sondern von a
 ll den Dingen\, die unser Lager nicht länger bewohnen sollen. Möbel-Sonderposte
 n\, Staffeleien\, Radiergummis\, Passepartoutkartons und mehr haben ausged
 ient ? aber nicht an Wert verloren. Beim Modulor Flohmarkt geben wir sie w
 eiter: günstig\, gut erhalten und bereit für ein zweites Leben bei Dir zu Hause oder
  im Atelier.Am 21. Juni von 12 bis 18 Uhr kannst Du bei hoffentlich bestem
  Wetter stöbern\, entdecken und handeln\, was das Zeug hält. Dazu gibt?s (vegan
 e) Burger\, kühle Getränke und die bewährte Modulor-Stimmung im Innenhof des Aufbau
  Hauses.Und weil uns nicht nur das Wiederverwenden\, sondern auch das bewu
 sste Gestalten wichtig ist\, bieten wir zusätzlich einen Aquarell-Workshop a
 n\, in dem mit natürlichen und ressourcenschonenden Materialien gearbeitet wird
 . So kannst Du künstlerisches Arbeiten und Umweltdenken miteinander verbinden.
 \n\nViel Spass wünscht Gratis-in-Berlin\n\nLink zum Tip: https://www.gratis-in-
 berlin.de/kunst/item/2073213-modulor-flohmarkt\nZu den Gratis-in-Berlin An
 geboten: http://www.gratis-in-berlin.de\n
DTSTART;VALUE=DATE:20250622
DTEND;VALUE=DATE:20250623
SUMMARY:Modulor Flohmarkt
END:VEVENT
END:VCALENDAR
