BEGIN:VCALENDAR
VERSION:2.0
PRODID:-//Gratis-in-Berlin//NONSGML kigkonsult.se iCalcreator 2.14//
METHOD:PUBLISH
X-WR-CALNAME:Gratis-in-Berlin Tip Kalender
X-WR-CALDESC:Erhalte Gratis-in-Berlin Tips in deinem Kalender
BEGIN:VEVENT
UID:20260422T201754UTC-9626evoGZG@Gratis-in-Berlin
DTSTAMP:20260422T201754Z
DESCRIPTION:n.b.k. Billboard&nbsp\;Eröffnung: 10. September 2025\, 18 Uhr&nbsp
 \;Kuratorin: Lidiya AnastasovaEin langjähriger künstlerischer Austausch verbindet
  den Gründer von Soundwalk Collective Stephan Crasneanscki und die Musikerin un
 d Dichterin Patti Smith\, der sich unter dem Titel CORRESPONDENCES der Öffe
 ntlichkeit offenbart. Hierbei handelt es sich um einen stetig wachsenden W
 erkkomplex\, der aus mehreren Filmen\, Archivmaterial\, Collagen\, Gedicht
 en\, Installationen und Performances besteht\, die sich jeweils unterschie
 dlichen Themenbereichen widmen ? darunter ökologische Katastrophen und der Kl
 imawandel. Crasneanscki beschreibt den Arbeitsprozess mit Smith als einen 
 fortlaufenden Dialog: Seine Field Recordings ? Feldaufnahmen\, die er als 
 ein Archiv von ?Klangerinnerungen? (sonic memories) bezeichnet ? sind Ausg
 angspunkt für Smiths Dichtung. In der Reihe n.b.k. Billboard wird erstmalig ein
  Werk aus CORRESPONDENCES ? Cry of the Lost | Prince of Anarchy ? im urban
 en Raum präsentiert und einer breiten Öffentlichkeit zugänglich gemacht.Eintrit
 t frei\n\nViel Spass wünscht Gratis-in-Berlin\n\nLink zum Tip: \nZu den Gratis-
 in-Berlin Angeboten: http://www.gratis-in-berlin.de\n
DTSTART;VALUE=DATE:20250911
DTEND;VALUE=DATE:20260223
SUMMARY:Stephan Crasneanscki und Patti Smith. Cry of the Lost | Prince of A
 narchy (Rund um die Uhr geöffnet) 
END:VEVENT
END:VCALENDAR
