BEGIN:VCALENDAR
VERSION:2.0
PRODID:-//Gratis-in-Berlin//NONSGML kigkonsult.se iCalcreator 2.14//
METHOD:PUBLISH
X-WR-CALNAME:Gratis-in-Berlin Tip Kalender
X-WR-CALDESC:Erhalte Gratis-in-Berlin Tips in deinem Kalender
BEGIN:VEVENT
UID:20260419T145154UTC-6737oJsduC@Gratis-in-Berlin
DTSTAMP:20260419T145154Z
DESCRIPTION:Zum Abschluss der Ausstellung Breaking this Silence laden wir S
 ie in Kooperation mit dem haus für Poesie herzlich zu einem literarischen Abend
  in der Galerie Alice Guy ein. Im Zentrum stehen zwei herausragende Stimme
 n der zeitgenössischen Lyrik: die marokkanisch-französische\, arabophone Dichter
 in Rim Battal und die deutsch-französische Lyrikerin Odile Kennel.In einem zw
 eisprachigen Gespräch sprechen die beiden Autorinnen über Körper\, Weiblichkeit\, Sp
 rache und Autonomie ? begleitet von ihren Gedichten\, Texten und Erfahrung
 en. Ein Abend der Nähe\, des Austauschs und der Poesie ? eingebettet in eine
  Ausstellung\, die selbst neue Narrative zu schreiben versucht.Im Anschlus
 s sind Sie herzlich eingeladen\, den Abend bei einem Getränk ausklingen zu l
 assen\, die Ausstellung anzuschauen und ins Gespräch zu kommen.Moderiert von
  Anna Julian Mendlik. Veranstaltung auf Französisch und Deutsch\, mit Simulta
 nübersetzung ins Deutsche. Eintritt frei. In der Galerie Alice Guy. In Kooperat
 ion mit dem Haus für Poesie.Über die Ausstellung Breaking this Silence:Die Ausst
 ellung Breaking this Silence versteht Kunst als einen Ort der Gegenrede\, 
 des Widerstands und der Neuschreibung. Im Zentrum steht das Anliegen\, die
  unsichtbare\, lange verdrängte Krankheit Endometriose nicht nur darzustelle
 n\, sondern neue Narrative zu ihr zu schaffen ? künstlerisch\, politisch und po
 etisch. Die eingeladenen Künstler:innen ? selbst Betroffene oder Verbündete ? zeigen
  Arbeiten\, die sich dem weiblichen Körper aus autopathographischer\, aktivis
 tischer und kritischer Perspektive nähern. Dabei thematisieren sie nicht nur
  das körperliche Erleben einer kolonisierten\, silenzierten Krankheit\, sonde
 rn auch die sozialen\, historischen\, religiösen und medizinischen Konstrukti
 onen\, die den Blick auf den weiblichen Körper bis heute prägen. Breaking this 
 Silence folgt dem Ansatz des ?Patienten als Partner? ? ein Modell\, das Er
 fahrungswissen von Patient:innen gleichwertig neben medizinisches Wissen s
 tellt und zu einem ethischen und epistemischen Wandel im Gesundheitssystem
  aufruft. Die Ausstellung ist Teil des europäischen Erasmus+-Projekts #ENDOs
 \, getragen von L?Agence Créative im Rahmen der Endométriose Academy. Sie wird
  begleitet von Workshops\, Performances\, Vorträgen und Begegnungen zwischen
  Künstler:innen\, Patient:innen und Gesundheitsfachpersonen ? mit dem Ziel\, ne
 ues Wissen gemeinsam zu schaffen und alte Denkmodelle zu überwinden.Odile Kenne
 l lebt als Lyrikerin und als Übersetzerin vorwiegend zeitgenössischer Lyrik au
 s dem Französischen\, Portugiesischen\, Spanischen\, Englischen in Berlin. Si
 e schreibt auf Deutsch und Französisch und lädt gerne weitere Sprachen in ihre 
 Texte ein. Ihr erster Gedichtband oder wie heißt diese interplanetare Luft 
 (2013) erschien bei dtv\, ebenso die zwei Romane Was Ida sagt (2011) und M
 it Blick auf See (2017). Für letzteren war sie für den Alfred-Döblin-Preis nominiert. B
 eim Verlagshaus Berlin veröffentlichte sie den Essay Lust (2021) sowie die Ge
 dichtbände Hors Texte (2019) und irgendetwas dazwischen (2023). 2022 erhielt
  sie den Paul-Scheerbart-Preis für ihre Lyrikübersetzungen. Irgendetwas dazwischen e
 rhielt 2024 den Dörlemannpreis der Hotlist der Unabhängigen Verlage.Rim Battal 
 wurde 1987 in Casablanca geboren und lebt heute in Paris. Nach einem Journ
 alismusstudium widmete sie sich ganz dem Schreiben und der Fotografie. Heu
 te gilt sie als eine der prägenden Stimmen einer neuen Generation arabophone
 r Lyriker:innen. Sie veröffentlichte unter anderem:Vingt poèmes et des poussières
  (Lanskine)\,L?eau du bain\,Les Quatrains de l?all inclusive\,X et excès (Le
  Castor Astral). Im Jahr 2025 erschien ihr erster Roman: Je me regarderai 
 dans les yeux.\n\nViel Spass wünscht Gratis-in-Berlin\n\nLink zum Tip: \nZu den
  Gratis-in-Berlin Angeboten: http://www.gratis-in-berlin.de\n
DTSTART;VALUE=DATE:20250927
DTEND;VALUE=DATE:20250928
SUMMARY:Finissage & Poesie: Ein Abend mit Rim Battal und Odile Kennel 
END:VEVENT
END:VCALENDAR
