BEGIN:VCALENDAR
VERSION:2.0
PRODID:-//Gratis-in-Berlin//NONSGML kigkonsult.se iCalcreator 2.14//
METHOD:PUBLISH
X-WR-CALNAME:Gratis-in-Berlin Tip Kalender
X-WR-CALDESC:Erhalte Gratis-in-Berlin Tips in deinem Kalender
BEGIN:VEVENT
UID:20260424T100711UTC-7227rUM8r6@Gratis-in-Berlin
DTSTAMP:20260424T100711Z
DESCRIPTION:?Let?s Talk About Food? ? Eine Kunstausstellung von Tainá Guedes\
 , inspiriert von den 17 Nachhaltigskeitzielen?WILMA Shoppen\, Berlin-Charl
 ottenburg15. September ? 30. Dezember 2025?Was haben unser Ernährung und die
  Zukunft der Welt gemeinsam? Die Kunstinstallation ?Let?s Talk About Food?
  der Künstlerin Tainá Guedes lädt Besucher\:innen ein\, genau dieser Frage nachzuge
 hen.Im Herzen von WILMA Shoppen entsteht eine begehbare\, abstrakte Waldla
 ndschaft\, in der 17 Schatzkisten versteckt sind ? jede davon widmet sich 
 einem der 17 Ziele für nachhaltige Entwicklung (Global Goals) und deren Verbind
 ung zur Ernährung.In dieser poetischen und bildstarken Umgebung begegnet man
  kleinen Kunstwerken\, Statements und Inspirationen\, die zum Nachdenken\,
  Diskutieren und Handeln anregen.?Der Eintritt ist frei.Workshops und Führungen
  für Schulklassen können unter sbne@charlottenburg-wilmersdorf.de gebucht werden. 
 Tainá Guedes ist food-Aktivistin\, Künstlerin und Autorin. Sie wurde in São Paulo g
 eboren und absolvierte an der Senac Universität eine Kochausbildung. Bereits
  während des Studiums gründete sie ein eigenes japanisches Restaurant\, später erle
 rnte sie in Japan die traditionelle vegetarische Shojin-Ryori-Küche. Sie gründete 20
 14 die Entretempo Kitchen Gallery in Berlin\, eine Galerie mit integrierte
 r Küche\, die sich der Food Art widmete und der gesellschaftlichen Bedeutung vo
 n Essen nachspürt Sie ist die Gründerin der food art week*. Autorin von der Bücher ?Koche
 n mit Brot? (oekom Verlag) und ?Die Küche der Achtsamkeit? (Kunstmann Verlag). 
 Mehr auf tainaguedes.org\, foodartweek.orgund entretempo-kitchen-gallery.c
 om?Design: Christine WunderSzenografie: Maria Cecilia CerottiKünstlerische Assi
 stenz: Ismael DuáPlanung &amp\; Produktion: Tainá Guedes\, Ismael Duá\, Maria Ce
 cilia CerottiKunstvermittler*innen: Ivona Pelajic\, Karla Suler and Felix 
 LiesDokumentation-Team: Julien Then und Sven-Gabriel SchwalkeVolunteers: E
 ve Kuo?Eine Initiative von SBNE und dem Bezirksamt Charlottenburg-Wilmersd
 orf\, in Kooperation mit NochMall.\n\nViel Spass wünscht Gratis-in-Berlin\n\nLi
 nk zum Tip: \nZu den Gratis-in-Berlin Angeboten: http://www.gratis-in-berl
 in.de\n
DTSTART;VALUE=DATE:20250918
DTEND;VALUE=DATE:20251231
SUMMARY:Kunstausstellung Let's Talk About Food von Tainá Guedes (Mo - Sa)
END:VEVENT
END:VCALENDAR
