BEGIN:VCALENDAR
VERSION:2.0
PRODID:-//Gratis-in-Berlin//NONSGML kigkonsult.se iCalcreator 2.14//
METHOD:PUBLISH
X-WR-CALNAME:Gratis-in-Berlin Tip Kalender
X-WR-CALDESC:Erhalte Gratis-in-Berlin Tips in deinem Kalender
BEGIN:VEVENT
UID:20260424T100635UTC-6924vU9LSa@Gratis-in-Berlin
DTSTAMP:20260424T100635Z
DESCRIPTION:Vera Mercer ? Life in Focus Eröffnung der Ausstellung am 19. Septe
 mber 2025\, 19 Uhr im ZAK ? Zentrum für Aktuelle Kunst in der Zitadelle Spandau
 . Zitadelle\, Am Juliusturm 64\, 13599 BerlinAusstellungsdauer: 20. Septem
 ber 2025 - 11. Januar 20261936 in Berlin geboren und in Kiel und Darmstadt
  aufgewachsen absolvierte die schweizerisch-amerikanische Fotografin Vera 
 Mercer zunächst eine Tanzausbildung\, bevor sie sich dem Fotografieren von O
 bjekten\, Porträts und neo-barocken Stillleben zuwandte. Zuerst in Paris\, s
 päter dann auch in Omaha/Nebraska lebend\, tauchte Vera Mercer ab den späten 1
 950er-Jahren in die pulsierenden Kulturszenen zahlreicher Metropolen ein. 
 1958 heiratete sie den Schweizer Objekt- und EatArt-Künstler Daniel Spoerri (19
 30-2024)\, von dem sie sich nach wenigen Jahren wieder trennte. Seitdem ar
 beitet Mercer kontinuierlich mit Fotografie und wurde vor allem als Porträti
 stin schnell bekannt. Es entstanden u.a. Bildserien und Reportagen über Marcel 
 Duchamp\, Samuel Beckett und Andy Warhol sowie Dokumentarfotos für Eva Aeppli\,
  Jean Tinguely und Niki de Saint Phalle\, mit denen sie große Anerkennung e
 rlangte. Ab den 1990er Jahren erarbeitete sie zudem Wandbilder für Restaurants 
 und Hotels in Tokyo\, Seoul und Hongkong. Auch ist sie ? gemeinsam mit ihr
 em zweiten Ehemann Mark Mercer (1943-2019) ? selbst als Restaurantbetreibe
 rin aktiv. Seit knapp dreißig Jahren fotografiert sie vor allem Stillleben\
 , in denen sie meisterlich Natur und Kulturgegenstände in Szene setzt.Zur Au
 sstellung erscheint eine umfangreiche Publikation in Deutsch und Englisch 
 mit 192 Seiten. Verkaufspreis in der Ausstellung 30 ?.Kurator und Presseko
 ntakt: Jens PepperÖffnungszeiten ZAK: Fr-Mi 10- 17 Uhr\, Do 13- 20 Uhr.www.
 zitadelle-spandau.de\n\nViel Spass wünscht Gratis-in-Berlin\n\nLink zum Tip: \n
 Zu den Gratis-in-Berlin Angeboten: http://www.gratis-in-berlin.de\n
DTSTART;VALUE=DATE:20250919
DTEND;VALUE=DATE:20260112
SUMMARY:Vera Mercer - Life in Focus ZAK Spandau Fr-Mi 10-17\, Do 13-20 Uhr
END:VEVENT
END:VCALENDAR
