BEGIN:VCALENDAR
VERSION:2.0
PRODID:-//Gratis-in-Berlin//NONSGML kigkonsult.se iCalcreator 2.14//
METHOD:PUBLISH
X-WR-CALNAME:Gratis-in-Berlin Tip Kalender
X-WR-CALDESC:Erhalte Gratis-in-Berlin Tips in deinem Kalender
BEGIN:VEVENT
UID:20260419T143427UTC-33166uuMh2@Gratis-in-Berlin
DTSTAMP:20260419T143427Z
DESCRIPTION:ARTIST: Mirjam Dorsch\, Moritz Gause\, Sabrina SchieckePROJEKT:
  Herzlich Willkommen für drei Aktionen am 27. und 28. 9.\, Mautstation/mobile S
 chreibwerkstatt\, Glückskekslotterie und Paspelknopflochworkshop sind partizipa
 torische Angebote\, bei denen jeder mitmachen kann\, der sich für Text und Text
 il begeistert. Dafür laden wir euch an den zwei Tagen in und außerhalb des io lu
 x ein mit uns zusammen kreativ zu handeln\, zu experimentieren und auszuta
 uschen.Bitte bringt Texte\, Ideen und ein oder mehrere Kleidungsstücke mit\, mi
 t denen ihr arbeiten wollt.Samstag\, 27. 9.Paspelknopflochworkshop: 16 bis
  22 Uhr im io luxMautstation/mobile Schreibwerkstatt: 16 bis 18 Uhr in der
  Max-Steinke-Str\, ab 18 im iox\n\nViel Spass wünscht Gratis-in-Berlin\n\nLink 
 zum Tip: \nZu den Gratis-in-Berlin Angeboten: http://www.gratis-in-berlin.
 de\n
DTSTART;VALUE=DATE:20250927
DTEND;VALUE=DATE:20250928
SUMMARY:Stick your finger in the electric light socket of the universe
END:VEVENT
END:VCALENDAR
