BEGIN:VCALENDAR
VERSION:2.0
PRODID:-//Gratis-in-Berlin//NONSGML kigkonsult.se iCalcreator 2.14//
METHOD:PUBLISH
X-WR-CALNAME:Gratis-in-Berlin Tip Kalender
X-WR-CALDESC:Erhalte Gratis-in-Berlin Tips in deinem Kalender
BEGIN:VEVENT
UID:20260419T165518UTC-2528h0UFD6@Gratis-in-Berlin
DTSTAMP:20260419T165518Z
DESCRIPTION:Das außergewöhnlichen Gebäudekomplex der ehemaligen »Kindl-Brauerei« is
 t jetzt ein Zentrum für zeitgenössische Kunst in Neukölln. Das denkmalgeschützte Gebäudeense
 mble bestehend aus Maschinenhaus\, Kesselhaus und Sudhaus besteht\, bietet
  auf drei Etagen Raum für monografische und thematische Ausstellungen internati
 onaler Gegenwartskunst.Am ersten Sonntag jeden Monats ist der Eintritt fre
 i\, 12 bis 18 Uhr.kindl-berlin.de\n\nViel Spass wünscht Gratis-in-Berlin\n\nLin
 k zum Tip: \nZu den Gratis-in-Berlin Angeboten: http://www.gratis-in-berli
 n.de\n
DTSTART;VALUE=DATE:20260503
DTEND;VALUE=DATE:20260504
SUMMARY:Kindl ? Zentrum für zeitgenössische Kunst (jeden 1. Sonntag frei)
END:VEVENT
END:VCALENDAR
