BEGIN:VCALENDAR
VERSION:2.0
PRODID:-//Gratis-in-Berlin//NONSGML kigkonsult.se iCalcreator 2.14//
METHOD:PUBLISH
X-WR-CALNAME:Gratis-in-Berlin Tip Kalender
X-WR-CALDESC:Erhalte Gratis-in-Berlin Tips in deinem Kalender
BEGIN:VEVENT
UID:20260422T195828UTC-8045EUO7sx@Gratis-in-Berlin
DTSTAMP:20260422T195828Z
DESCRIPTION:Das Goldrausch Künstlerinnenprojekt zeigt in einer Gruppenausstellun
 g in der Galerie im Körnerpark die Arbeiten der diesjährigen Teilnehmerinnen de
 r 35. Ausgabe seines renommierten Weiterbildungs- und Förderprogramms.Die fünfzehn
  in Berlin arbeitenden internationalen bildenden Künstlerinnen präsentieren aktue
 lle Werke ? zu sehen sind Malerei auf Leinwand\, Fotografie im Raum\, mult
 imediale und skulpturale Installationen\, Performances\, recherche-basiert
 e Video-Arbeiten und Zeichnungen. Die präsentierten Arbeiten schärfen den Blic
 k für neue und unerwartete Kontexte. In der Vielfalt der Motive und Medien wird
  Nähe ? Up Close ? als gemeinsame Herangehensweise auf unterschiedlichen Ebe
 nen spürbar: Nähe zur eigenen Biografie\, zu gesellschaftlichen Realitäten und poli
 tischen Kämpfen\, bei Themen\, die ein genaues Hinschauen brauchen.Das Goldr
 ausch Künstlerinnenprojekt fördert die Durchsetzung herausragender künstlerischer Posit
 ionen von Frauen bzw. FLINTA. Es ist ein unabhängiges berufliches Weiterbild
 ungsprojekt für Bildende Künstlerinnen\, in dessen Rahmen ein einjähriger\, postgradua
 ler Professionalisierungskurs sowie eine Ausstellung und öffentliche Veransta
 ltungen stattfinden. Jährlich können 15 Künstlerinnen teilnehmen.2025 feiert das Ku?
 nstlerinnenprojekt sein 35-jähriges Bestehen! Seit 1989 hat das Programm meh
 r als 500 Künstlerinnen auf ihrem beruflichen Weg begleitet und ein einzigartig
 es Netzwerk geschaffen\, das den feministischen Austausch\, gegenseitige U
 nterstützung und die öffentliche Präsenz der Werke von Künstlerinnen stärkt. Über die Jahre 
 hinweg wurden zahlreiche Ausstellungen an vielen verschiedenen Orten reali
 siert ? in acht von zwölf Berliner Bezirken\, von Projekträumen bis hin zum Gro
 pius Bau.Das Goldrausch Künstlerinnenprojekt wird gefördert aus Mitteln der Europäis
 chen Union (Europäischer Sozialfonds Plus) und des Landes Berlin.Die Gruppen
 ausstellung ist eine Kooperation des Goldrausch Künstlerinnenprojekts mit dem F
 achbereich Kultur des Bezirksamtes Neukölln von Berlin.www.goldrausch.orgKura
 tiert von Mona Hermann &amp\; Yolanda Kaddu-Mulindwa\n\nViel Spass wünscht Grat
 is-in-Berlin\n\nLink zum Tip: https://www.gratis-in-berlin.de/kalender/ite
 m/2075249-up-close-goldrausch-2025-taeglich\nZu den Gratis-in-Berlin Angeb
 oten: http://www.gratis-in-berlin.de\n
DTSTART;VALUE=DATE:20251018
DTEND;VALUE=DATE:20260226
SUMMARY:Up Close ? Goldrausch 2025 (täglich)
END:VEVENT
END:VCALENDAR
