BEGIN:VCALENDAR
VERSION:2.0
PRODID:-//Gratis-in-Berlin//NONSGML kigkonsult.se iCalcreator 2.14//
METHOD:PUBLISH
X-WR-CALNAME:Gratis-in-Berlin Tip Kalender
X-WR-CALDESC:Erhalte Gratis-in-Berlin Tips in deinem Kalender
BEGIN:VEVENT
UID:20260421T094327UTC-3742C3FV9K@Gratis-in-Berlin
DTSTAMP:20260421T094327Z
DESCRIPTION:Irina Bugoslavska ist eine aus der Ukraine stammende Künstlerin mit 
 einem Hintergrund in der Architektur und Illustration. Seit vielen Jahren 
 lebt und arbeitet sie als freiberufliche Künstlerin in Leipzig.Am Anfang ihrer 
 künstlerischen Ausbildung hat sie die Kunstschule in Chabarowsk und die Akademi
 e der Künste in Kiew absolviert. Sie ist diplomierte Architektin und hatte bere
 its während des Studiums angefangen\, grafische Arbeiten zu erstellen. Zwisc
 hen 1989 und 1992 wurden Bücher mit Illustrationen von ihr herausgegeben.Irinas
  Stil hat sich seitdem signifikant verändert. Realistische Stillleben in Gou
 ache und Pastell wichen surrealen Szenen und schließlich abstrakten Arbeite
 n mit Schwerpunkt auf dreidimensionalen Texturen und Reflexionen\, die dur
 ch den Gebrauch von Schlagmetall und Modelliermasse zustande kommen. Auch 
 ihre Wahlheimat Leipzig findet immer wieder den Weg in ihre Bilder ? mal r
 ealistisch\, mal surreal und manchmal auch beides zugleich. Um 19:00 Uhr E
 röffnung die Ausstellung und ab 20 Uhr&nbsp\;Live Musik vom Trio Scho.\n\nVie
 l Spass wünscht Gratis-in-Berlin\n\nLink zum Tip: \nZu den Gratis-in-Berlin Ang
 eboten: http://www.gratis-in-berlin.de\n
DTSTART;VALUE=DATE:20251025
DTEND;VALUE=DATE:20251026
SUMMARY:Irina Bugoslavska Vernissage im Haus der Sinne + Live Musik
END:VEVENT
END:VCALENDAR
