BEGIN:VCALENDAR
VERSION:2.0
PRODID:-//Gratis-in-Berlin//NONSGML kigkonsult.se iCalcreator 2.14//
METHOD:PUBLISH
X-WR-CALNAME:Gratis-in-Berlin Tip Kalender
X-WR-CALDESC:Erhalte Gratis-in-Berlin Tips in deinem Kalender
BEGIN:VEVENT
UID:20260422T115148UTC-692711GX0a@Gratis-in-Berlin
DTSTAMP:20260422T115148Z
DESCRIPTION:Im Workshop lernt ihr\, wie aus bunten und bedruckten Seiten to
 lle Notizbücher gebunden werden. Dafür nutzen wir unterschiedliche\, vor dem Müll gerette
 te Materialien und alte Bücher. Denn bunte und bedruckte Seiten regen die Kreat
 ivität viel mehr an als weiße Seiten. Ein Workshop mit Kunst-Stoffe e.V.\n\nV
 iel Spass wünscht Gratis-in-Berlin\n\nLink zum Tip: \nZu den Gratis-in-Berlin A
 ngeboten: http://www.gratis-in-berlin.de\n
DTSTART;VALUE=DATE:20251025
DTEND;VALUE=DATE:20251026
SUMMARY:Kreativ Heftchen gestalten mit Kunststoffe Berlin e.V.
END:VEVENT
END:VCALENDAR
