BEGIN:VCALENDAR
VERSION:2.0
PRODID:-//Gratis-in-Berlin//NONSGML kigkonsult.se iCalcreator 2.14//
METHOD:PUBLISH
X-WR-CALNAME:Gratis-in-Berlin Tip Kalender
X-WR-CALDESC:Erhalte Gratis-in-Berlin Tips in deinem Kalender
BEGIN:VEVENT
UID:20260419T142355UTC-2654v25Tau@Gratis-in-Berlin
DTSTAMP:20260419T142355Z
DESCRIPTION:Der Workshop ist ausgebucht\, eine Aufnahme in die Warteliste i
 st möglich.In den letzten Jahren findet auch in Deutschland verstärkt eine Ause
 inandersetzung mit dem Nationalsozialismus im Medium Comic statt. Anlässlich
  der Wanderausstellung ?trotzdem da! Kinder aus verbotenen Beziehungen zwi
 schen Deutschen und Kriegsgefangenen oder Zwangsarbeiter*innen? bietet der
  dreitägige Workshop die Möglichkeit\, sich diesem Thema durch Information\, Di
 skussion und Zeichnen anzunähern. Gemeinsam werden die Teilnehmenden sich mi
 t den Lebensgeschichten von Kindern aus verbotenen Beziehungen beschäftigen 
 und dazu mit Unterstützung der Comiczeichnerin Elke Renate Steiner Bildsequenze
 n erstellen. Die Potentiale\, Begrenzungen und Herausforderungen von Gesch
 ichtsvermittlung durch das Medium Comic werden dabei reflektiert und disku
 tiert. Besondere Vorkenntnisse sind nicht erforderlich.Bei Bedarf kann ins
  Englische übersetzt werden.Der Workshop ist in Berlin als Bildungszeit (vormal
 s Bildungsurlaub) anerkannt.Maximal 12 Teilnehmende. 11.02. bis 13.02.2026
 \, jeweils von 10 bis 17 UhrAnmeldung (bis 15. Januar 2026) und Fragen: bi
 ldung_ns-zwangsarbeit(at)topographie.de oder 030 6390 288 01\n\nViel Spass
  wünscht Gratis-in-Berlin\n\nLink zum Tip: \nZu den Gratis-in-Berlin Angeboten:
  http://www.gratis-in-berlin.de\n
DTSTART;VALUE=DATE:20260211
DTEND;VALUE=DATE:20260214
SUMMARY: Gemeinsam Geschichte zeichnen: Trotzdem da! Kinder aus 'verbotenen
  Beziehungen' Comic-Workshop für Anfänger*innen zu NS-Zwangsarbeit
END:VEVENT
END:VCALENDAR
