BEGIN:VCALENDAR
VERSION:2.0
PRODID:-//Gratis-in-Berlin//NONSGML kigkonsult.se iCalcreator 2.14//
METHOD:PUBLISH
X-WR-CALNAME:Gratis-in-Berlin Tip Kalender
X-WR-CALDESC:Erhalte Gratis-in-Berlin Tips in deinem Kalender
BEGIN:VEVENT
UID:20260419T145938UTC-7343hUNwww@Gratis-in-Berlin
DTSTAMP:20260419T145938Z
DESCRIPTION:18. ? 29.11.2025Iina Vartia ? Sky ObservationsVernissage: Diens
 tag 18.10. 19:00-21:00 UhrÖffnungszeiten: Dienstag-Samstag 15-19 UhrGalerie
  PleikuEugen-Schönhaar-Strasse 6a10407 BerlinSky Observations (Himmelsbeobach
 tungen) ist eine Kunstausstellung\, die den Betrachter in die Welt der Wol
 ken und des Regens entführt. Sie lädt dazu ein\, innezuhalten und zu beobachten ?
  nicht nur zu sehen\, sondern auch die eigene Gedankenwelt und Gefühle zu refle
 ktieren. Sie ermutigt dazu\, sich auf ein Abenteuer einzulassen und das Le
 ben im Freien zu genießen. Die Ausstellung umfasst Zeichnungen und Skulptur
 en.Die Arbeiten erkunden die Grenze zwischen dem\, was wahrgenommen und de
 m\, was erlebt wird. Zarte Linien auf dem Papier stehen im Kontrast zum ph
 ysischen Gewicht der Skulpturen. Regen wird sowohl als konkrete Tropfen al
 s auch als Erinnerungen\, Erwartungen und flüchtige Emotionen dargestellt. Wolk
 en verwandeln sich in Formen\, die sich einer Definition entziehen ? sie k
 önnen so leicht wie ein Gedanke oder so schwer wie ein aufziehendes Gewitter 
 sein. Die Ausstellung untersucht\, wie das Wetter die Menschen beeinflusst
 : welche Art von Emotionen der Regen hervorruft\, was er mit sich bringt o
 der was er wegnimmt.Sky Observations erklärt nicht\, sondern bietet einen Ra
 um zum Fühlen und Interpretieren. Sie ermutigt den Betrachter\, langsamer zu we
 rden und nach oben zu blicken ? zum Himmel\, zu sich selbst.Iina Vartia (g
 eb. 1994) ist eine bildende Künstlerin aus Tampere\, Finnland. Sie schloss ihr 
 Studium an der Fachhochschule Satakunta im Jahr 2021 ab. Ihre Haupttechnik
 en sind Skulptur und Zeichnung. Dies ist ihre erste Einzelausstellung im A
 usland.***Sky Observations is an art exhibition that takes the viewer into
  the world of clouds and rain. It invites one to pause and observe - not o
 nly to see\, but also to reflect on the mindscape and feelings. It encoura
 ges the viewer to embark on an adventure and enjoy life outdoors. The exhi
 bition features drawings and sculptures.The works explore the boundary bet
 ween what is perceived and what is experienced. Delicate lines on the pape
 r contrast with the physical weight of the sculptures. Rain is depicted bo
 th as concrete drops and as memories\, expectations and fleeting emotions.
  Clouds transform into shapes that escape definition - they can be as ligh
 t as a thought or as heavy as an approaching thunderstorm. The exhibition 
 explores how weather affects people: what kind of emotions rain evokes\, w
 hat it brings with it\, or what it takes away.Sky Observations does not ex
 plain\, it provides a space to sense and interpret. It encourages the view
 er to slow down and look up - towards the sky\, towards themselves.lina Va
 rtia (1994) is a visual artist based in Tampere\, Finland. She graduated f
 rom Satakunta University of Applied Sciences in 2021. Her main techniques 
 are sculpture and drawing. This is her first solo exhibition abroad.\n\nVi
 el Spass wünscht Gratis-in-Berlin\n\nLink zum Tip: \nZu den Gratis-in-Berlin An
 geboten: http://www.gratis-in-berlin.de\n
DTSTART;VALUE=DATE:20251118
DTEND;VALUE=DATE:20251130
SUMMARY:Ausstellung: Iina Vartia ? Sky Observations
END:VEVENT
END:VCALENDAR
