BEGIN:VCALENDAR
VERSION:2.0
PRODID:-//Gratis-in-Berlin//NONSGML kigkonsult.se iCalcreator 2.14//
METHOD:PUBLISH
X-WR-CALNAME:Gratis-in-Berlin Tip Kalender
X-WR-CALDESC:Erhalte Gratis-in-Berlin Tips in deinem Kalender
BEGIN:VEVENT
UID:20260422T090315UTC-9796j8osDa@Gratis-in-Berlin
DTSTAMP:20260422T090315Z
DESCRIPTION:Deutschland wird die Klimaziele für 2030 nach Angaben eines Fachgrem
 iums nicht erreichen. Wie der Expert*innenrat für Klimafragen der Regierung mit
 teilte\, wird das Vorhaben verfehlt\, den Ausstoß von Treibhausgasen bis zu
 m Jahr 2030 um 65 Prozent zu reduzieren.Es gibt aber unzählige einzelne Pers
 onen und Initiativen\, die weltweit ununterbrochen daran arbeiten\, Kondit
 ionen zu verbessern.In der Ausstellung ?Am Puls der Zeit ? Gedanken zur Kl
 imakrise? im Neurotitan stellen Künstler*innen Werke aus\, die sich mit der Umw
 elt\, dem sich verändernden Klima\, Naturkatastrophen\, dem Aussterben der A
 rten und der Verschmutzung der Ozeane sowie Flüsse auseinandersetzen ... Suchen
  sie nach Lösungen oder fühlen sie sich hilflos? Gibt es einen poetischen Ansatz o
 der ist dieser reale Aspekt zu überwältigend? Hat die Kunst eine Verantwortung\
 , den Klimawandel anzusprechen? Setzt sich der Underground mit dieser Them
 atik künstlerisch auseinander?Künstler*innenNina Backman\, Finland | Maroula Blades\
 , Berlin/LondonGam Bodenhausen\, The Netherlands | Seda Gazio?lu\, Istanbu
 l/LondonVibeke Jensen &amp\; Santiago De Waele aka DE JENZ\, Norway/Belgiu
 mk.u.n.s.t.s.p.i.e.l.e.r.i.n.n.e.n\, Berlin/Barcelona | Mary Muszynski\, S
 an FranciscoNaeemeh Naeemaei\, Chicago/Tehran | Danielle de Picciotto\, Be
 rlin/NYC | Carola Schmidt\, BerlinGuido Schulz\, Berlin | Olga Volchkova\,
  OregonAusstellungsprogrammSamstag\, 17.01.2026\, 18 Uhr\, Vernissage im N
 eurotitan· Interaktives Spiel mit k.u.n.s.t.s.p.i.e.l.e.r.i.n.n.e.n· Kleiner
  musikalischer Auftritt von Danielle de Picciotto\, 19 UhrAftershow\, 21 U
 hr im Eschschloraque Rümschrümp?SUMMER. ZWEITE RUNDE?\, Video- &amp\; Musikperforman
 ce von SonaeSonae ist Produzentin\, Live-Performerin und DJ der experiment
 ellen elektronischen Musik.Sie ist Teil des Label-Kollektivs Monika Werkst
 att.Der Klimawandel und seine Folgen für Mensch und Natur waren bereits Thema d
 es Werks ?Summer? (2021)\, einem Album von Sonae für das französische Konzeptlabel
  la a p s and a. Mit ihrer AV-Performance ?Summer. Zweite Runde? zur Eröffnun
 g greift Sonae das Thema erneut auf und entwickelt es weiter ? genau so\, 
 wie es die Verantwortlichen zu brauchen scheinen\, bis schließlich gehandel
 t wird.Mittwoch\, 21.01.2026\, 18 Uhr im Neurotitan· Panel und Diskussionsr
 unde mit den Künstler*innen zum Thema:?Unser Verhältnis zur Natur und unterschied
 liche Möglichkeiten eines Umdenkens\, um dem Klimawandel positiv und kreativ 
 entgegenzutreten?1) Vibeke Jensen\, Norway (Professorin in Bergen/Künstlerin)2)
  Olga Volchkova\, Oregon/Moscow (Ikonenmalerin und Landschaftsarchitektin 
 aus Oregon USA/Moscow)3) Mary Muszynski\, San Francisco (Landschaftsarchit
 ektin und Sustainable Land Artist)Moderation: Danielle de PicciottoDas Pan
 el findet auf English statt\n\nViel Spass wünscht Gratis-in-Berlin\n\nLink zum 
 Tip: \nZu den Gratis-in-Berlin Angeboten: http://www.gratis-in-berlin.de\n
DTSTART;VALUE=DATE:20260117
DTEND;VALUE=DATE:20260208
SUMMARY:Am Puls der Zeit ? Gedanken zur Klimakrise (Mo-Sa 12-20 Uhr)
END:VEVENT
END:VCALENDAR
