BEGIN:VCALENDAR
VERSION:2.0
PRODID:-//Gratis-in-Berlin//NONSGML kigkonsult.se iCalcreator 2.14//
METHOD:PUBLISH
X-WR-CALNAME:Gratis-in-Berlin Tip Kalender
X-WR-CALDESC:Erhalte Gratis-in-Berlin Tips in deinem Kalender
BEGIN:VEVENT
UID:20260422T083601UTC-2672f56SVx@Gratis-in-Berlin
DTSTAMP:20260422T083601Z
DESCRIPTION:Der öffentliche Rundgang eröffnet Ihnen neue Blickwinkel auf die Auss
 tellung ?Im Gespräch mit Geistern? und gewährt Einblicke in die Herangehenswei
 sen und Perspektiven der Kuratorin Sandra Teitge.Sprache: DeutschOhne Anme
 ldung. Der Zugang ist barrierefreiTreffpunkt: Spreepark Art Space / Ausste
 llung\n\nViel Spass wünscht Gratis-in-Berlin\n\nLink zum Tip: \nZu den Gratis-i
 n-Berlin Angeboten: http://www.gratis-in-berlin.de\n
DTSTART;VALUE=DATE:20260214
DTEND;VALUE=DATE:20260215
SUMMARY:Ausstellungsrundgang mit der Kuratorin Sandra Teitge
END:VEVENT
END:VCALENDAR
