BEGIN:VCALENDAR
VERSION:2.0
PRODID:-//Gratis-in-Berlin//NONSGML kigkonsult.se iCalcreator 2.14//
METHOD:PUBLISH
X-WR-CALNAME:Gratis-in-Berlin Tip Kalender
X-WR-CALDESC:Erhalte Gratis-in-Berlin Tips in deinem Kalender
BEGIN:VEVENT
UID:20260419T143932UTC-34210MApjx@Gratis-in-Berlin
DTSTAMP:20260419T143932Z
DESCRIPTION:Ausstellung: RotMama ? Porno Pop Art06.?15. Februar 2026Galerie
  ZeitZone\, BerlinDie italienische Künstlerin Valentina Dipalma\, bekannt als R
 otMama\, zeigt in ihrer Ausstellung Porno Pop Art kraftvolle Acrylarbeiten
 \, die Liebe\, Erotik\, Bondage und soziale Fragen miteinander verbinden. 
 Ihre Bildwelten bewegen sich bewusst zwischen Kitsch und Kritik\, Lust und
  Tabu\, Farbe und Schatten.Geboren 1993 in Monopoli\, lebt und arbeitet Ro
 tMama seit 2012 in Berlin. Ihre Werke wurden bereits in Italien und Deutsc
 hland ausgestellt\, u. a. in Monopoli\, LAB Berlin und weiteren unabhängigen
  Kunstorten. Heute gilt sie als eine markante Stimme der jungen europäischen
  Avantgarde mit einem klar feministischen und erotischen Blick.\n\nViel Sp
 ass wünscht Gratis-in-Berlin\n\nLink zum Tip: https://www.gratis-in-berlin.de/k
 unst/item/2076520-ausstellung-rotmama-porno-pop-art\nZu den Gratis-in-Berl
 in Angeboten: http://www.gratis-in-berlin.de\n
DTSTART;VALUE=DATE:20260206
DTEND;VALUE=DATE:20260207
SUMMARY:Ausstellung: RotMama ? Porno Pop Art
END:VEVENT
END:VCALENDAR
