BEGIN:VCALENDAR
VERSION:2.0
PRODID:-//Gratis-in-Berlin//NONSGML kigkonsult.se iCalcreator 2.14//
METHOD:PUBLISH
X-WR-CALNAME:Gratis-in-Berlin Tip Kalender
X-WR-CALDESC:Erhalte Gratis-in-Berlin Tips in deinem Kalender
BEGIN:VEVENT
UID:20260419T153023UTC-2823ea0M17@Gratis-in-Berlin
DTSTAMP:20260419T153023Z
DESCRIPTION:In diesem Workshop verbinden wir Bewegung und analoge Fotografi
 e. Gemeinsam entwickeln wir Bewegungssequenzen\, durch analoge Fotografie 
 in Bildern eingefangen werden. Wir erforschen\, wie Bewegung sichtbare Spu
 ren auf Fotos hinterlässt. Vom Entwickeln der Filme bis zum eigenen Abzug in
  der Dunkelkammer erlebt ihr die analoge Fotografie. Bringt\, falls ihr ha
 bt\, eure eigene analoge Kamera mit!Alter: 14-27 JahreSpendenempfehlung: 5
 ?Anmeldung: weinmeisterhaus@wetek.de\n\nViel Spass wünscht Gratis-in-Berlin\n\n
 Link zum Tip: \nZu den Gratis-in-Berlin Angeboten: http://www.gratis-in-be
 rlin.de\n
DTSTART;VALUE=DATE:20260202
DTEND;VALUE=DATE:20260203
SUMMARY:Bewegungsspuren ? Movement analog fotografieren (Workshop)
END:VEVENT
END:VCALENDAR
