BEGIN:VCALENDAR
VERSION:2.0
PRODID:-//Gratis-in-Berlin//NONSGML kigkonsult.se iCalcreator 2.14//
METHOD:PUBLISH
X-WR-CALNAME:Gratis-in-Berlin Tip Kalender
X-WR-CALDESC:Erhalte Gratis-in-Berlin Tips in deinem Kalender
BEGIN:VEVENT
UID:20260421T155942UTC-9081vxI7h9@Gratis-in-Berlin
DTSTAMP:20260421T155942Z
DESCRIPTION:Uwe Schumacher verfolgt in seinen Gemälden einen abstrakten\, pro
 zessorientierten Ansatz\, der sich zwischen informeller Malerei\, abstrakt
 em Expressionismus und gestischer Abstraktion und einer poetischen Bildstr
 uktur verorten lässt.In den Werken von Oliver Heubeck entsteht eine Spannung
  aus der Auseinandersetzung mit Material\, Farbe\, Zufall und zielgerichte
 ter Komposition. Es entstehen energievolle Bilder\, in die seine heilerisc
 he Kraft einfließt.Juliane Kissner spielt auf dem Saxophon.Die Ausstellung 
 geht bis 11.03. und endet mit einer Finissage. Öffnungszeiten: Di Mi Fr 15-
 19 Uhr\, Sa von 14-17 Uhr\n\nViel Spass wünscht Gratis-in-Berlin\n\nLink zum Ti
 p: https://www.gratis-in-berlin.de/kunst/item/2076956-vernissage-am-puls-d
 es-imaginaeren\nZu den Gratis-in-Berlin Angeboten: http://www.gratis-in-be
 rlin.de\n
DTSTART;VALUE=DATE:20260213
DTEND;VALUE=DATE:20260214
SUMMARY:Vernissage 'Am Puls des Imaginären'
END:VEVENT
END:VCALENDAR
