BEGIN:VCALENDAR
VERSION:2.0
PRODID:-//Gratis-in-Berlin//NONSGML kigkonsult.se iCalcreator 2.14//
METHOD:PUBLISH
X-WR-CALNAME:Gratis-in-Berlin Tip Kalender
X-WR-CALDESC:Erhalte Gratis-in-Berlin Tips in deinem Kalender
BEGIN:VEVENT
UID:20260419T122213UTC-4230SciUuJ@Gratis-in-Berlin
DTSTAMP:20260419T122213Z
DESCRIPTION:Eröffnung: 20. Februar\, 19 Uhr Musik: DJ Marko König und die (Wave) 
 Band TscheljabinskDie Modedesignerin und Künstlerin Iris Lorenz Berlin verbinde
 t in ihren Entwürfen Eleganz in Stoff und Schnitt mit Elementen aus Gothic und 
 Punk und beschreibt ihren Stil als elegante Goth-Punk-Romantik. Die Ausste
 llung ?Gothic\, Glitter and Eternity? zeichnet den Weg ihrer Arbeiten nach
  ? von der ersten Zeichnung über das vollendete Kleidungsstück bis hin zur Modefotog
 rafie.\n\nViel Spass wünscht Gratis-in-Berlin\n\nLink zum Tip: \nZu den Gratis-
 in-Berlin Angeboten: http://www.gratis-in-berlin.de\n
DTSTART;VALUE=DATE:20260220
DTEND;VALUE=DATE:20260221
SUMMARY:Iris Lorenz Berlin\, Gothic\, Glitter and Eternity Vernissage
END:VEVENT
END:VCALENDAR
