BEGIN:VCALENDAR
VERSION:2.0
PRODID:-//Gratis-in-Berlin//NONSGML kigkonsult.se iCalcreator 2.14//
METHOD:PUBLISH
X-WR-CALNAME:Gratis-in-Berlin Tip Kalender
X-WR-CALDESC:Erhalte Gratis-in-Berlin Tips in deinem Kalender
BEGIN:VEVENT
UID:20260419T145124UTC-7816c9lBUv@Gratis-in-Berlin
DTSTAMP:20260419T145124Z
DESCRIPTION:Ausgehend von einem Motiv\, einer Figur\, einer formalen Idee o
 der einem inhaltlichen Impuls werden mehrere Arbeiten entwickelt\, die mit
 einander in Beziehung stehen. Wiederholung\, Abwandlung\, Verschiebung und
  Bruch werden dabei bewusst als künstlerische Mittel eingesetzt. Hoch- und Tief
 druck spielen bei der Anfertigung ebenso eine Rolle\, wie der Einsatz vers
 chiedener Stifte und Farben. Die Angebote richten sich insbesondere an Men
 schen mit Migrationskompetenz\, aber auch Kunstinteressierte aus der Nachb
 arschaft sind herzlich willkommen. Auf Nachfrage können die Kurse in Englisch
 \, ggfs. auch in anderen Sprachen gehalten werden. Der Eintritt ist bei al
 len Veranstaltungen frei. Arbeitsmaterialien sind vorhanden. Für die Kurse sind
  keine Vorkenntnisse erforderlich\, ebenso ist eine Anmeldung nicht notwen
 dig. Weitere Informationen unter: resiart@aufwind-berlin.de\; Tel.: 030/28
 032996\; Mobil: 015737523889.Das Projekt resiART wird gefördert aus Mitteln d
 es bezirklichen Integrationsfonds des Bezirks Reinickendorf. Der Integrati
 onsfonds ist eine Maßnahme des Gesamtkonzepts zur Integration und Partizipa
 tion Geflüchteter des Senats von Berlin. Das Projekt Galerie Interkulturell wir
 d kofinanziert von der Europäischen Kommission\, gefördert aus dem Programm ?Ku
 ltur und Bibliotheken im Stadtteil ? KUBIST?. resiART &amp\; Galerie Inter
 kulturell sind Projekte von der Aufwind Berlin gGmbH in Kooperation mit de
 m Bezirksamt Reinickendorf von Berlin\, Fachbereich Kunst und Geschichte.
 \n\nViel Spass wünscht Gratis-in-Berlin\n\nLink zum Tip: \nZu den Gratis-in-Ber
 lin Angeboten: http://www.gratis-in-berlin.de\n
DTSTART;VALUE=DATE:20260224
DTEND;VALUE=DATE:20260225
SUMMARY:Serielle Malerei: Vom Einzelbild zum Zyklus ? Druckkurs mit Christi
 na Allzeit
END:VEVENT
END:VCALENDAR
