BEGIN:VCALENDAR
VERSION:2.0
PRODID:-//Gratis-in-Berlin//NONSGML kigkonsult.se iCalcreator 2.14//
METHOD:PUBLISH
X-WR-CALNAME:Gratis-in-Berlin Tip Kalender
X-WR-CALDESC:Erhalte Gratis-in-Berlin Tips in deinem Kalender
BEGIN:VEVENT
UID:20260419T152047UTC-5060tAGojp@Gratis-in-Berlin
DTSTAMP:20260419T152047Z
DESCRIPTION:Linie und Form werden nicht als Umriss oder Abbild verstanden\,
  sondern als Ausdruck von Bewegung\, Rhythmus und innerer Haltung. Aus dem
  Zusammenspiel von pastosen und lasierenden Flächen und der Betonung von ein
 zelnen Linien und Formen entstehen Bilder\, die sich jenseits des Gegenständ
 lichen bewegen. Die Angebote richten sich insbesondere an Menschen mit Mig
 rationskompetenz\, aber auch Kunstinteressierte aus der Nachbarschaft sind
  herzlich willkommen. Auf Nachfrage können die Kurse in Englisch\, ggfs. auch
  in anderen Sprachen gehalten werden. Der Eintritt ist bei allen Veranstal
 tungen frei. Arbeitsmaterialien sind vorhanden. Für die Kurse sind keine Vorken
 ntnisse erforderlich\, ebenso ist eine Anmeldung nicht notwendig. Weitere 
 Informationen unter: resiart@aufwind-berlin.de\; Tel.: 030/28032996\; Mobi
 l: 015737523889.Das Projekt resiART wird gefördert aus Mitteln des bezirklich
 en Integrationsfonds des Bezirks Reinickendorf. Der Integrationsfonds ist 
 eine Maßnahme des Gesamtkonzepts zur Integration und Partizipation Geflüchteter 
 des Senats von Berlin. Das Projekt Galerie Interkulturell wird kofinanzier
 t von der Europäischen Kommission\, gefördert aus dem Programm ?Kultur und Bibl
 iotheken im Stadtteil ? KUBIST?. resiART &amp\; Galerie Interkulturell sin
 d Projekte von der Aufwind Berlin gGmbH in Kooperation mit dem Bezirksamt 
 Reinickendorf von Berlin\, Fachbereich Kunst und Geschichte.\n\nViel Spass
  wünscht Gratis-in-Berlin\n\nLink zum Tip: \nZu den Gratis-in-Berlin Angeboten:
  http://www.gratis-in-berlin.de\n
DTSTART;VALUE=DATE:20260424
DTEND;VALUE=DATE:20260425
SUMMARY:Abstrakte Linien und Formen ? Aquarellkurs mit Zuzanna Schmukalla
END:VEVENT
END:VCALENDAR
