BEGIN:VCALENDAR
VERSION:2.0
PRODID:-//Gratis-in-Berlin//NONSGML kigkonsult.se iCalcreator 2.14//
METHOD:PUBLISH
X-WR-CALNAME:Gratis-in-Berlin Tip Kalender
X-WR-CALDESC:Erhalte Gratis-in-Berlin Tips in deinem Kalender
BEGIN:VEVENT
UID:20260419T151954UTC-1318SDdUad@Gratis-in-Berlin
DTSTAMP:20260419T151954Z
DESCRIPTION:Ausgangspunkt sind historische Ereignisse\, kollektive Erinneru
 ngen oder kulturelle Prägungen\, die in zeitgenössische Bildsprachen übersetzt werde
 n. Ziel ist es\, eigene Erfahrungen und Reflexionen in die Malerei einflie
 ßen zu lassen. Basierend auf Fotos\, Zeitungsausschnitten\, Stoffen oder an
 deren Fundstücken wird ein Gesamtbild arrangiert. Die Angebote richten sich ins
 besondere an Menschen mit Migrationskompetenz\, aber auch Kunstinteressier
 te aus der Nachbarschaft sind herzlich willkommen. Auf Nachfrage können die K
 urse in Englisch\, ggfs. auch in anderen Sprachen gehalten werden. Der Ein
 tritt ist bei allen Veranstaltungen frei. Arbeitsmaterialien sind vorhande
 n. Für die Kurse sind keine Vorkenntnisse erforderlich\, ebenso ist eine Anmeld
 ung nicht notwendig. Weitere Informationen unter: resiart@aufwind-berlin.d
 e\; Tel.: 030/28032996\; Mobil: 015737523889.Das Projekt resiART wird geförde
 rt aus Mitteln des bezirklichen Integrationsfonds des Bezirks Reinickendor
 f. Der Integrationsfonds ist eine Maßnahme des Gesamtkonzepts zur Integrati
 on und Partizipation Geflüchteter des Senats von Berlin. Das Projekt Galerie In
 terkulturell wird kofinanziert von der Europäischen Kommission\, gefördert aus 
 dem Programm ?Kultur und Bibliotheken im Stadtteil ? KUBIST?. resiART &amp
 \; Galerie Interkulturell sind Projekte von der Aufwind Berlin gGmbH in Ko
 operation mit dem Bezirksamt Reinickendorf von Berlin\, Fachbereich Kunst 
 und Geschichte.\n\nViel Spass wünscht Gratis-in-Berlin\n\nLink zum Tip: \nZu de
 n Gratis-in-Berlin Angeboten: http://www.gratis-in-berlin.de\n
DTSTART;VALUE=DATE:20260505
DTEND;VALUE=DATE:20260506
SUMMARY:Historische Spuren ? Collagekurs mit Anetta Küchler-Mocny
END:VEVENT
END:VCALENDAR
