BEGIN:VCALENDAR
VERSION:2.0
PRODID:-//Gratis-in-Berlin//NONSGML kigkonsult.se iCalcreator 2.14//
METHOD:PUBLISH
X-WR-CALNAME:Gratis-in-Berlin Tip Kalender
X-WR-CALDESC:Erhalte Gratis-in-Berlin Tips in deinem Kalender
BEGIN:VEVENT
UID:20260419T164820UTC-4607DKuV5S@Gratis-in-Berlin
DTSTAMP:20260419T164820Z
DESCRIPTION:Die Natur als Quelle von Form\, Bewegung und Atmosphäre steht im 
 Fokus. Mit Naturmaterialien - wie Blätter\, Rinde\, Steine\, Sand - in Kombi
 nation mit Farbe\, Epoxidharz und anderen Materialien wird die Natur nicht
  dargestellt\, sondern übersetzt ? in Farbe\, Struktur und Tiefe. Die Angebote 
 richten sich insbesondere an Menschen mit Migrationskompetenz\, aber auch 
 Kunstinteressierte aus der Nachbarschaft sind herzlich willkommen. Auf Nac
 hfrage können die Kurse in Englisch\, ggfs. auch in anderen Sprachen gehalten
  werden. Der Eintritt ist bei allen Veranstaltungen frei. Arbeitsmateriali
 en sind vorhanden. Für die Kurse sind keine Vorkenntnisse erforderlich\, ebenso
  ist eine Anmeldung nicht notwendig. Weitere Informationen unter: resiart@
 aufwind-berlin.de\; Tel.: 030/28032996\; Mobil: 015737523889.Das Projekt r
 esiART wird gefördert aus Mitteln des bezirklichen Integrationsfonds des Bezi
 rks Reinickendorf. Der Integrationsfonds ist eine Maßnahme des Gesamtkonzep
 ts zur Integration und Partizipation Geflüchteter des Senats von Berlin. Das Pr
 ojekt Galerie Interkulturell wird kofinanziert von der Europäischen Kommissi
 on\, gefördert aus dem Programm ?Kultur und Bibliotheken im Stadtteil ? KUBIS
 T?. resiART &amp\; Galerie Interkulturell sind Projekte von der Aufwind Be
 rlin gGmbH in Kooperation mit dem Bezirksamt Reinickendorf von Berlin\, Fa
 chbereich Kunst und Geschichte.\n\nViel Spass wünscht Gratis-in-Berlin\n\nLink 
 zum Tip: \nZu den Gratis-in-Berlin Angeboten: http://www.gratis-in-berlin.
 de\n
DTSTART;VALUE=DATE:20260507
DTEND;VALUE=DATE:20260508
SUMMARY:Organische Formen ? Mixed-Media-Kurs mit Christina Allzeit
END:VEVENT
END:VCALENDAR
