BEGIN:VCALENDAR
VERSION:2.0
PRODID:-//Gratis-in-Berlin//NONSGML kigkonsult.se iCalcreator 2.14//
METHOD:PUBLISH
X-WR-CALNAME:Gratis-in-Berlin Tip Kalender
X-WR-CALDESC:Erhalte Gratis-in-Berlin Tips in deinem Kalender
BEGIN:VEVENT
UID:20260419T164916UTC-1092lH2koI@Gratis-in-Berlin
DTSTAMP:20260419T164916Z
DESCRIPTION:Es wird das Spannungsfeld zwischen Mensch und Raum erforscht. I
 m Freien entstehen Figurenstudien\, bei denen Haltung und Silhouette im Mi
 ttelpunkt stehen\, während die Landschaft als Stimmungsraum in Farbflächen ges
 taltet wird. Durch bewusste Proportionsverschiebung und eine reduzierte Fa
 rbpalette wird das Verhältnis von Nähe und Distanz sichtbar gemacht. Die Angeb
 ote richten sich insbesondere an Menschen mit Migrationskompetenz\, aber a
 uch Kunstinteressierte aus der Nachbarschaft sind herzlich willkommen. Auf
  Nachfrage können die Kurse in Englisch\, ggfs. auch in anderen Sprachen geha
 lten werden. Der Eintritt ist bei allen Veranstaltungen frei. Arbeitsmater
 ialien sind vorhanden. Für die Kurse sind keine Vorkenntnisse erforderlich\, eb
 enso ist eine Anmeldung nicht notwendig. Weitere Informationen unter: resi
 art@aufwind-berlin.de\; Tel.: 030/28032996\; Mobil: 015737523889.Das Proje
 kt resiART wird gefördert aus Mitteln des bezirklichen Integrationsfonds des 
 Bezirks Reinickendorf. Der Integrationsfonds ist eine Maßnahme des Gesamtko
 nzepts zur Integration und Partizipation Geflüchteter des Senats von Berlin. Da
 s Projekt Galerie Interkulturell wird kofinanziert von der Europäischen Komm
 ission\, gefördert aus dem Programm ?Kultur und Bibliotheken im Stadtteil ? K
 UBIST?. resiART &amp\; Galerie Interkulturell sind Projekte von der Aufwin
 d Berlin gGmbH in Kooperation mit dem Bezirksamt Reinickendorf von Berlin\
 , Fachbereich Kunst und Geschichte.\n\nViel Spass wünscht Gratis-in-Berlin\n\nL
 ink zum Tip: \nZu den Gratis-in-Berlin Angeboten: http://www.gratis-in-ber
 lin.de\n
DTSTART;VALUE=DATE:20260429
DTEND;VALUE=DATE:20260430
SUMMARY:Nähe und Distanz ? Figur in der Landschaft - Urbansketching mit Shahl
 a Aghapour
END:VEVENT
END:VCALENDAR
