BEGIN:VCALENDAR
VERSION:2.0
PRODID:-//Gratis-in-Berlin//NONSGML kigkonsult.se iCalcreator 2.14//
METHOD:PUBLISH
X-WR-CALNAME:Gratis-in-Berlin Tip Kalender
X-WR-CALDESC:Erhalte Gratis-in-Berlin Tips in deinem Kalender
BEGIN:VEVENT
UID:20260419T182756UTC-9566RFLtAI@Gratis-in-Berlin
DTSTAMP:20260419T182756Z
DESCRIPTION:Entdecken Sie Porträts sowie mystische und alltägliche Szenen\, die
  die Seele ihres Entstehungsprozesses in sich tragen. Albrecht Tiedemann f
 ührt uns zurück zur Verbindung zwischen dem rohen Material Holz\, dem präzisen Holzsch
 nitt und einer feinen künstlerischen Vision.Das Herzstück seiner Arbeit ist der inte
 nsive physische Prozess: Fernab von mechanischen Pressen entstehen alle We
 rke ausschließlich durch bewusst geführten Handabrieb. Diese Technik macht jeden
  Druck zu einem exklusiven Einzelstück in kleiner Auflage.Warum jedes Werk ein 
 Unikat ist:Pointillistische Ästhetik: Durch eine spezielle Farbmischung lösen 
 sich feste Flächen beim Druckvorgang in unzählige Farbtupfer\, Punkte und Lini
 en auf.Individuelle Strukturen: Jeder Druck reagiert anders auf den manuel
 len Prozess ? es entstehen nuancierte Texturen\, die mechanisch nicht repr
 oduzierbar sind.Einzigartiger Ausdruck: Das Zusammenspiel der natürlichen Holzm
 aserung mit dem variierenden Farbauftrag macht jedes Blatt zu einem unverw
 echselbaren Unikat.Art Pavillon´61Öffnungszeiten:Mi. Do. Fr. 15-18hSa. 11-14
 Abweichend Zeiten:09.04.2026: 18 bis 20 Uhr Vernissage23.04.2026: 18 bis 2
 0 Uhr Midisage\n\nViel Spass wünscht Gratis-in-Berlin\n\nLink zum Tip: \nZu den
  Gratis-in-Berlin Angeboten: http://www.gratis-in-berlin.de\n
DTSTART;VALUE=DATE:20260409
DTEND;VALUE=DATE:20260510
SUMMARY:'Messerscharf und handgerieben' mehrfarbiger Holzdruck
END:VEVENT
END:VCALENDAR
