BEGIN:VCALENDAR
VERSION:2.0
PRODID:-//Gratis-in-Berlin//NONSGML kigkonsult.se iCalcreator 2.14//
METHOD:PUBLISH
X-WR-CALNAME:Gratis-in-Berlin Tip Kalender
X-WR-CALDESC:Erhalte Gratis-in-Berlin Tips in deinem Kalender
BEGIN:VEVENT
UID:20260419T151957UTC-0875pvaZi5@Gratis-in-Berlin
DTSTAMP:20260419T151957Z
DESCRIPTION:Podiumsdiskussion mit Anna-Verena Nosthoff (Juniorprofessorin f
 u?r Ethik der Digitalisierung\, Universität Oldenburg) und Paul Feigelfeld (
 Professor fu?r Digitalität und kulturelle Vermittlung\, Universität Mozarteum 
 Salzburg)\, moderiert von Christine Watty (Journalistin\, Deutschlandfunk 
 Kultur)In deutscher Sprache\n\nViel Spass wünscht Gratis-in-Berlin\n\nLink zum 
 Tip: \nZu den Gratis-in-Berlin Angeboten: http://www.gratis-in-berlin.de\n
DTSTART;VALUE=DATE:20260425
DTEND;VALUE=DATE:20260426
SUMMARY:Techfaschismus. Macht und Autoritarismus im digitalen Raum 
END:VEVENT
END:VCALENDAR
