BEGIN:VCALENDAR
VERSION:2.0
PRODID:-//Gratis-in-Berlin//NONSGML kigkonsult.se iCalcreator 2.14//
METHOD:PUBLISH
X-WR-CALNAME:Gratis-in-Berlin Tip Kalender
X-WR-CALDESC:Erhalte Gratis-in-Berlin Tips in deinem Kalender
BEGIN:VEVENT
UID:20260419T165006UTC-0865imp1ca@Gratis-in-Berlin
DTSTAMP:20260419T165006Z
DESCRIPTION:Im Rahmen der Arbeit 'Jedes Blatt eine Antwort auf das Entschei
 dungsproblem' von Leonie Nagel entsteht während der Laufzeit der Ausstellung
  im n.b.k. ein Kurzfilm in Zusammenarbeit mit Teilnehmenden verschiedener 
 Jugendtheaterprojekte in Berlin. Ausgangspunkt des Projekts ist das Spiel 
 ?Wahrheit oder Pflicht? und die ihm eingeschriebenen Entscheidungs- und Au
 shandlungsprozesse. In improvisatorischer Entwicklung erarbeitet die Grupp
 e ein offenes Skript\, das in einem gemeinschaftlichen Prozess filmisch um
 gesetzt wird. Die Verhandlungen u?ber Regeln\, Entscheidungen und Spielver
 läufe werden dabei Teil des Films. Das Ergebnis ist ein experimenteller Kurz
 film\, der am Ende der Ausstellung im n.b.k. uraufgefu?hrt wird.In deutsch
 er Sprache\n\nViel Spass wünscht Gratis-in-Berlin\n\nLink zum Tip: https://www.
 gratis-in-berlin.de/kunst/item/2077549-film-praesentation\nZu den Gratis-i
 n-Berlin Angeboten: http://www.gratis-in-berlin.de\n
DTSTART;VALUE=DATE:20260503
DTEND;VALUE=DATE:20260504
SUMMARY:Film-Präsentation
END:VEVENT
END:VCALENDAR
