BEGIN:VCALENDAR
VERSION:2.0
PRODID:-//Gratis-in-Berlin//NONSGML kigkonsult.se iCalcreator 2.14//
METHOD:PUBLISH
X-WR-CALNAME:Gratis-in-Berlin Tip Kalender
X-WR-CALDESC:Erhalte Gratis-in-Berlin Tips in deinem Kalender
BEGIN:VEVENT
UID:20260419T182638UTC-9419WVHMRU@Gratis-in-Berlin
DTSTAMP:20260419T182638Z
DESCRIPTION:'Eine Kombination von Aktfotografie und Zeichnungen'!\n\nViel S
 pass wünscht Gratis-in-Berlin\n\nLink zum Tip: \nZu den Gratis-in-Berlin Angebo
 ten: http://www.gratis-in-berlin.de\n
DTSTART;VALUE=DATE:20260410
DTEND;VALUE=DATE:20260427
SUMMARY:Die Aktgalerie / 'Angezogen-Ausgezogen' von Bernd Rietdorff und Ste
 lla Ahangi (Fr-Sa-So)
END:VEVENT
END:VCALENDAR
