BEGIN:VCALENDAR
VERSION:2.0
PRODID:-//Gratis-in-Berlin//NONSGML kigkonsult.se iCalcreator 2.14//
METHOD:PUBLISH
X-WR-CALNAME:Gratis-in-Berlin Tip Kalender
X-WR-CALDESC:Erhalte Gratis-in-Berlin Tips in deinem Kalender
BEGIN:VEVENT
UID:20260421T122300UTC-78152UzPct@Gratis-in-Berlin
DTSTAMP:20260421T122300Z
DESCRIPTION:Ausstellung 'Stahl und Seele' - zwischen Kunst und Maschine.Ren
 é Wisina ist ein Hennigsdorfer Künstler und arbeitet unter dem Künstlernamen Reen Flas
 h. Er versteht Kunst als Verbindung von Handwerk\, Präzision und persönlichem A
 usdruck.Sein künstlerisches Spektrum reicht von Illustration und Pinstriping über in
 dividuelle Custom Art bis hin zu Portraitarbeiten und Objektgestaltung.Die
  Ausstellung ?Stahl &amp\; Seele? zeigt einen ausgewählten Teil seiner Arbei
 ten\, die sich zwischen Fahrzeugkultur\, Pin-up-Ästhetik und handwerklicher
  Detailarbeit bewegen.Ob auf Leinwand oder auf einem Motorrad-Tank ? jedes
  Werk entsteht in sorgfältiger Handarbeit und trägt eine klare Linie zwischen 
 Technik und Emotion. Die Vernissage findet am 28. Mai 2026\, 18 Uhr im Bürgerha
 us 'Alte Feuerwache' in Hennigsdorf statt. Im Anschluss hat die Ausstellun
 g bis 9. Juli 2026 wie folgt geöffnet:mittwochs 10-16 Uhr und donnerstags 14-
 18 UhrSonntag\, 6. Juni und 28. Juni\, jeweils von 14-17 Uhr\n\nViel Spass
  wünscht Gratis-in-Berlin\n\nLink zum Tip: \nZu den Gratis-in-Berlin Angeboten:
  http://www.gratis-in-berlin.de\n
DTSTART;VALUE=DATE:20260528
DTEND;VALUE=DATE:20260529
SUMMARY:Ausstellung 'Stahl und Seele' von René Wisina
END:VEVENT
END:VCALENDAR
