BEGIN:VCALENDAR
VERSION:2.0
PRODID:-//Gratis-in-Berlin//NONSGML kigkonsult.se iCalcreator 2.14//
METHOD:PUBLISH
X-WR-CALNAME:Gratis-in-Berlin Tip Kalender
X-WR-CALDESC:Erhalte Gratis-in-Berlin Tips in deinem Kalender
BEGIN:VEVENT
UID:20260419T165010UTC-2050vo4hmz@Gratis-in-Berlin
DTSTAMP:20260419T165010Z
DESCRIPTION:Die Collage ist eine besondere künstlerische Technik\, die von einem
  Bild oder einem Papierstück ausgeht und dich in eine andere Welt entführt.In diesem
  Workshop entdeckst du\, wie du verschiedene Materialien kreativ einsetzen
  und mit Formen und Bildern experimentieren kannst. Mit Schere\, Papier\, 
 Texten und Farben bringst du deine eigene Botschaft aufs Blatt.Materialien
  werden zur Verfügung gestellt. Bringe gerne Bilder oder Fotos mit\, die du ver
 wenden möchtest. Vorkenntnisse sind nicht erforderlich.Für Erwachsenen und Jugendl
 iche ab 14 Jahren.\n\nViel Spass wünscht Gratis-in-Berlin\n\nLink zum Tip: http
 s://www.gratis-in-berlin.de/kunst/item/2078001-collagen-workshop\nZu den G
 ratis-in-Berlin Angeboten: http://www.gratis-in-berlin.de\n
DTSTART;VALUE=DATE:20260425
DTEND;VALUE=DATE:20260426
SUMMARY:Collagen-Workshop
END:VEVENT
END:VCALENDAR
