BEGIN:VCALENDAR
VERSION:2.0
PRODID:-//Gratis-in-Berlin//NONSGML kigkonsult.se iCalcreator 2.14//
METHOD:PUBLISH
X-WR-CALNAME:Gratis-in-Berlin Tip Kalender
X-WR-CALDESC:Erhalte Gratis-in-Berlin Tips in deinem Kalender
BEGIN:VEVENT
UID:20260419T164822UTC-3646d2abCM@Gratis-in-Berlin
DTSTAMP:20260419T164822Z
DESCRIPTION:In ihrer Einzelausstellung setzt sich die Bildhauerin mit Mecha
 nismen des Wegsehens und Ausblendens in unserer Gesellschaft auseinander. 
 Ihre Arbeiten greifen das rechtliche Konzept der ?passiven Bewaffnung? auf
 \, das das Mitführen alltäglicher Schutzgegenstände bei Demonstrationen kriminalisi
 ert\, und machen sichtbar\, wie staatliche Ordnung Wahrnehmung lenkt und S
 elbstschutz im öffentlichen Raum reguliert.In Installationen aus Holzreliefs\
 , Marketerien und Teigabdrücken verbindet die Künstlerin traditionelle Handwerkstech
 niken mit Fragen zu Selbstschutz und Protest und zeigt\, wie alltägliche\, d
 em Privaten zugeschriebene Handlungen im öffentlichen Raum politische Bedeutu
 ng annehmen.Bildnachweis:&nbsp\;© Friso Gentsch\n\nViel Spass wünscht Gratis-in-
 Berlin\n\nLink zum Tip: \nZu den Gratis-in-Berlin Angeboten: http://www.gr
 atis-in-berlin.de\n
DTSTART;VALUE=DATE:20260424
DTEND;VALUE=DATE:20260425
SUMMARY:Vernissage der Einzelausstellung ??oder liebst du deine Scheuklappe
 n?? von Cornelia Herfurtner in der Galerie im Saalbau
END:VEVENT
END:VCALENDAR
