BEGIN:VCALENDAR
VERSION:2.0
PRODID:-//Gratis-in-Berlin//NONSGML kigkonsult.se iCalcreator 2.14//
METHOD:PUBLISH
X-WR-CALNAME:Gratis-in-Berlin Tip Kalender
X-WR-CALDESC:Erhalte Gratis-in-Berlin Tips in deinem Kalender
BEGIN:VEVENT
UID:20260419T152147UTC-5798jS4c2u@Gratis-in-Berlin
DTSTAMP:20260419T152147Z
DESCRIPTION:Hallo zusammen\,Kommt vorbei und zeichnet ein paar Stunden lang
  mit uns- und lernt in einer entspannten\, kreativen Atmosphäre Gleichgesinn
 te kennen.Bringt einfach eure Materialien und Skizzenbücher mit. (Wir haben auc
 h eine etwas chaotische Box mit Marker und Stifte\, falls ihr mal etwas ve
 rgessen habt :)Wir treffen uns einmal im Monat von 18:00 bis 21:00 Uhr im 
 schönen Rathausblock Kiezraum diesesmal im Kaminzimmer.Bitte unter den Link A
 nmelden\, danke. Wir freuen uns auf euch!(Kostenloses Treffen\, Unterstützt von
  H. und dem Rathausblock- Spenden für den Kiezraum sind immer willkommen :D )\n
 \nViel Spass wünscht Gratis-in-Berlin\n\nLink zum Tip: https://www.gratis-in-be
 rlin.de/kunst/item/2078294-sketch-meet-up-gemeinsames-zeichnen\nZu den Gra
 tis-in-Berlin Angeboten: http://www.gratis-in-berlin.de\n
DTSTART;VALUE=DATE:20260423
DTEND;VALUE=DATE:20260424
SUMMARY:Sketch Meet-Up / Gemeinsames Zeichnen
END:VEVENT
END:VCALENDAR
