BEGIN:VCALENDAR
VERSION:2.0
PRODID:-//Gratis-in-Berlin//NONSGML kigkonsult.se iCalcreator 2.14//
METHOD:PUBLISH
X-WR-CALNAME:Gratis-in-Berlin Tip Kalender
X-WR-CALDESC:Erhalte Gratis-in-Berlin Tips in deinem Kalender
BEGIN:VEVENT
UID:20260419T164804UTC-6776w7aoc5@Gratis-in-Berlin
DTSTAMP:20260419T164804Z
DESCRIPTION:Das ?Haus der Höschen? ist wieder zu Gast im Foyer der Hansabiblio
 thek. Zum zweiten Mal heißt es ?Vom Lesen in Höschen?. Anlässlich der offizielle
 n Eröffnung der Ausstellung möchten wir euch zu einer Matinee mit einer Lesung v
 on Olga Hohmann sowie der Präsentation der ersten Publikation aus dem ?Haus 
 der Höschen? einladen.Das ?Haus der Höschen? ist ein Projekt der Künstlerin Olivia Wi
 lhelmine Seiling.Es umfasst mittlerweile über 1.700 kleine Papierunterhosen\, d
 ie aus Kunstweltaltpapier gemacht sind. Und es wächst weiter.?Das ?Haus der 
 Höschen? befindet sich irgendwo im Bereich des Aller-Intimsten und des Aller-
 Öffentlichsten. Die Höschen-Institution relativiert in gewisser Weise diesen s
 cheinbaren Gegensatz ? und stellt ein widersprüchliches Verhältnis zur Frage nach
  Maßstab her. Vergrößerung und Verkleinerung\, Verniedlichung und erschreckend
 e Ernsthaftigkeit werden ununterscheidbar. Nichts ist ausformuliert\, im G
 anzen lesbar oder erkennbar ? alles findet sich in der einen Form wieder\,
  die eben einfach die der ganz profanen ?Unterhose? ist.?\, schreibt Olga 
 Hohmann.Die Ausstellung ist vom 12. April 2026 bis zum 03. Mai 2026 in der
  Hansabibliothek zu sehen.Olivia Wilhelmine Seiling (*1972 in NRW) studier
 te freie Kunst an der Kunstakademie in Münster und war Meisterschülerin des Bildhaue
 rs Joachim Bandau. In ihrer Arbeit fabriziert sie Kurzschlüsse und Hybridwesen.
  Sie zeichnet psychische und physische Zustände. Sie befragt die Warenwelt\,
  liest der Esoterik aus der verschwitzten Hand und legt den Finger in die 
 ausgewetzten Scharten der Hochkultur. Seilings Papierobjekte kombinieren f
 ormale Präzision und konzeptuelle Tiefe und stellen Fragen zur Rolle der Künstler
 in und der Signifikanz von Kunst heute. Die Papierhöschen kommen in großen Sch
 wärmen und bilden Kunstgeschichte und künstlerische Zeitgenossenschaft im guten\,
  wie im zweifelnden Sinne ab. Es geht ein Rauschen durch den Feigenblätterwa
 ld. Panty Rhei!Olga Hohmann schreibt Essays\, Prosa-Miniaturen und mäandernd
 e Texte\, die zum Vorlesen gedacht sind. In einer fast musikalischen Form 
 verbindet sie mehr oder weniger fiktive Erzählungen mit gefundenem Material\
 , die sich zu einem rhythmischen Rauschen verbinden. Slogans\, Aphorismen 
 und Gedankenblitze werden dabei hierarchisch gleichwertig.Zuletzt trat sie
  im Westfälischen Kunstverein Münster\, dem Schinkel Pavillon Berlin\, der Julia 
 Stoschek Foundation Düsseldorf\, dem Kunstverein München\, in der Kunsthalle Düsseldorf\,
  im Kunstverein Harburger Bahnhof\, in der Deutschen Oper Berlin\, im Rote
 n Salon der Volksbühne Berlin\, im Archivio Conz\, im Kasseler Kunstverein\, de
 r Fondation Beyeler und im Rahmen von Texte zur Kunst im Silent Green Berl
 in auf.Die Veranstaltung findet im Rahmen des Projekts OFFEN FÜR KULTUR in 
 der Hansabibliothek statt und ist kostenfrei.Dass vollständige Programm von 
 OFFEN FÜR KULTUR findet ihr hier: www.offen-fuer-kultur.de.OFFEN FÜR KULTUR 
 wird mit Mitteln der LOTTO-Stiftung Berlin finanziert.(Bild: Olivia Seilin
 g)\n\nViel Spass wünscht Gratis-in-Berlin\n\nLink zum Tip: \nZu den Gratis-in-B
 erlin Angeboten: http://www.gratis-in-berlin.de\n
DTSTART;VALUE=DATE:20260426
DTEND;VALUE=DATE:20260427
SUMMARY:Das Haus der Höschen: Talk\, Präsentation & Lesung mit Olivia Seiling un
 d Olga Hohmann
END:VEVENT
END:VCALENDAR
