BEGIN:VCALENDAR
VERSION:2.0
PRODID:-//Gratis-in-Berlin//NONSGML kigkonsult.se iCalcreator 2.14//
METHOD:PUBLISH
X-WR-CALNAME:Gratis-in-Berlin Tip Kalender
X-WR-CALDESC:Erhalte Gratis-in-Berlin Tips in deinem Kalender
BEGIN:VEVENT
UID:20260419T215940UTC-5923cVvcjs@Gratis-in-Berlin
DTSTAMP:20260419T215940Z
DESCRIPTION:(Supposedly like) Oil and Water ist eine multidisziplinäre Gruppe
 nausstellung\, die sich mit Themen wie Zugehörigkeit\, (Selbst-)Identität\, Res
 ilienz und radikaler Imagination auseinandersetzt ? aus der Perspektive af
 rikanischer und afro-diasporischer queerer Künstler. Dieses eindrucksvolle Proj
 ekt lädt dazu ein\, afro-queere Kunst in ihrer rohesten und authentischsten 
 Form zu erleben und über die Rolle von Kunst nachzudenken: als Werkzeug\, um un
 terdrückende Systeme zu hinterfragen und inklusivere Zukünfte zu entwerfen.Die Verni
 ssage findet am 17. April 2026 von 18:00?22:00 Uhr statt. Die Ausstellung 
 läuft anschließend bis zum 24. April 2026\, 18:00 Uhr im Gewölbekeller\, Straßbur
 ger Str. 10\, 10405 Berlin.Neben den visuellen Arbeiten erwartet euch ein 
 vielseitiges Programm:17. April (18:00?22:00): Vernissage mit Live-Perform
 ances &amp\; Fashion Show19. April (17:30?20:30): Kurzfilm-Screening &amp\
 ; Artist Talk21. April (17:30?20:30): Open Mic Night24. April (18:00?22:00
 ): Closing Party mit DJ Trade TrainerDie Ausstellung vereint 22 bildende K
 ünstler\, darunter:Chie Marquart-Tabel\, Papa De\, Raviva Nsiama\, Tayo\, Les L
 ónsu\, Kat Pablo\, Lahya\, Awaduna\, Ololajulo Photography\, Nyambura wa Flo\
 , Mona Okulla Obua\, Adéráy?? Jasmin Moallim\, Austin Nortey\, Naomi Boima\,
  Satta Briana\, Logan February\, Rositsa Mahdi\, Kunika Tappert\, Ncube\, 
 NKWSpace und Nicole Gudo.Performances von Logan February\, Ncube und Exocé s
 owie Mode von Mathilda Rejoan und Mounia Studios ergänzen das Programm.Durch
  Malerei\, Textil\, Installation und Film entsteht ein kollektiver Raum für Ref
 lexion\, Verletzlichkeit\, Austausch und radikale Imagination. Der Gewölbekel
 ler bietet dabei einen geschützten Rahmen\, um die Realitäten afro-queerer Lebens
 welten sichtbar zu machen und Besucher dazu einzuladen\, gesellschaftliche
  Strukturen kritisch zu hinterfragen.Kuratorinnen: Georgina Koutifari-Magk
 lara &amp\; Nicole GudoKommt vorbei\, erlebt\, fühlt und denkt mit.\n\nViel Spa
 ss wünscht Gratis-in-Berlin\n\nLink zum Tip: https://www.gratis-in-berlin.de/ka
 lender/item/2078363-supposedly-like-oil-and-water\nZu den Gratis-in-Berlin
  Angeboten: http://www.gratis-in-berlin.de\n
DTSTART;VALUE=DATE:20260417
DTEND;VALUE=DATE:20260425
SUMMARY:(Supposedly like) Oil and Water
END:VEVENT
END:VCALENDAR
