BEGIN:VCALENDAR
VERSION:2.0
PRODID:-//Gratis-in-Berlin//NONSGML kigkonsult.se iCalcreator 2.14//
METHOD:PUBLISH
X-WR-CALNAME:Gratis-in-Berlin Tip Kalender
X-WR-CALDESC:Erhalte Gratis-in-Berlin Tips in deinem Kalender
BEGIN:VEVENT
UID:20260419T152047UTC-0319pnKUv5@Gratis-in-Berlin
DTSTAMP:20260419T152047Z
DESCRIPTION:Sehr geehrte Freundinnen und Freunde der Kunst\, wir laden Sie 
 herzlich ein\, das 10-jährige Jubiläum der PostArt Gallery mit der Eröffnung der 
 Ausstellung ?KALI: Algorithmus der Ewigkeit? zu feiern. Kali ist in der in
 dischen Mythologie eine Göttin der Zerstörung und der Erneuerung. Sie ist die Mu
 tter der Transformation. In einer Gegenwart\, in der Technologie das Mensc
 hliche nicht mehr nur erweitert\, sondern zunehmend neu definiert\, kehrt 
 ein uralter Archetyp in zeitgenössischer Form zurück: Kali. In unserer Ausstellung
  wird Kali nicht dargestellt ? sie wird übersetzt: in Textur\, Spannung und Kon
 trast. In einer Bildsprache\, die zugleich archaisch und radikal gegenwärtig
  ist. Die Ausstellung entfaltet sich im Spannungsfeld von Malerei und Konz
 ept\, von Körper und Code. Dabei trifft Materialität auf Algorithmus. Die Arbei
 ten verbinden die physische Dichte der Malerei (Spachtel\, Textur\, Volume
 n) mit der Idee des Immateriellen ? Algorithmus\, Erinnerung\, digitale Sp
 ur. Sie oszillieren zwischen Wärme und Kälte\, zwischen Organischem und Künstlichem
  und eröffnen einen Raum\, in dem Betrachtende nicht nur sehen\, sondern erle
 ben. Dabei verliert Liebe ihre Sentimentalität\, der Tod seine Endgültigkeit und 
 Technologie ihre Neutralität. Doch die Spannung zwischen ihnen bleibt. Die A
 rbeiten geben keine Antworten\, sondern erzeugen einen Zustand: einen Gren
 zraum\, dicht\, nahezu körperlich erfahrbar. Liebe. Tod. Etwas Anderes. Die A
 usstellung stellt eine Frage: Was bleibt menschlich\, wenn Maschinen zu fühlen 
 beginnen und das Göttliche als System zu denken beginnt? · Künstlerinnen und Künstler: A
 ndrea Cataudella\, Julia Ihnatenko\, Karina Bondarenko\, Dima Miroshnichen
 ko\, Vasilisa Boykova und Halyna Hamelink-Ihnatenko. · Kuratorin: Elena Sch
 ütz Eröffnung: Donnerstag\, der 23.04.2026 Uhrzeit: 19:00?22:00 Ort: PostArt Galle
 ry\, Schustehrusstraße 47\, 10585 Berlin-Charlottenburg Der Eintritt ist fr
 ei. Wir freuen uns auf Ihren Besuch!\n\nViel Spass wünscht Gratis-in-Berlin\n\n
 Link zum Tip: \nZu den Gratis-in-Berlin Angeboten: http://www.gratis-in-be
 rlin.de\n
DTSTART;VALUE=DATE:20260423
DTEND;VALUE=DATE:20260424
SUMMARY:10 Jahre PostArt Gallery & Vernissage ?Kali: Algorithmus der Ewigke
 it'
END:VEVENT
END:VCALENDAR
