BEGIN:VCALENDAR
VERSION:2.0
PRODID:-//Gratis-in-Berlin//NONSGML kigkonsult.se iCalcreator 2.14//
METHOD:PUBLISH
X-WR-CALNAME:Gratis-in-Berlin Tip Kalender
X-WR-CALDESC:Erhalte Gratis-in-Berlin Tips in deinem Kalender
BEGIN:VEVENT
UID:20260420T041607UTC-97985znw6l@Gratis-in-Berlin
DTSTAMP:20260420T041607Z
DESCRIPTION:? Fragmente von Erinnerung in paralleler BewegungWir laden euch
  herzlich zur Eröffnung von Parallel Syntax ein. Einer immersiven Installatio
 n zwischen Bild\, Klang und Wahrnehmung.?Parallel Syntax entfaltet sich al
 s räumliche Komposition über drei miteinander verbundene Bereiche hinweg\, in den
 en Bild\, Klang und physische Strukturen als parallele Systeme agieren\, s
 ie überlagern sich\, greifen ineinander und verändern sich fortlaufend.Glitch-Fot
 ografie\, bewegte Bildfragmente\, Field Recordings und audio-reaktive Stru
 kturen formen eine vielschichtige räumliche Komposition.Von schwebenden Mate
 rialfragmenten und responsiven Klangstrukturen bis hin zu immersiven Bildr
 äumen und intimen Hörsituationen bewegt sich die Arbeit zwischen Zuständen von Ak
 tivierung\, Verzerrung und Reflexion.Anstelle fester Bedeutungen eröffnet Par
 allel Syntax ein Feld verschiebender Beziehungen\, in dem sich Erinnerung\
 , Wahrnehmung und Signal kontinuierlich neu organisieren.?Gasquk (Guillerm
 o Rivadeneira) ist ein multidisziplinärer Künstler\, dessen Praxis Klang\, visuel
 le Kunst und räumliche Komposition umfasst. Mit einem Hintergrund in Archite
 ktur\, Musik und Grafikdesign untersucht seine Arbeit die Schnittstellen v
 on Wahrnehmung\, Struktur und sinnlicher Erfahrung.In den vergangenen zwei
  Jahrzehnten hat er international Projekte entwickelt und realisiert als M
 usikproduzent\, Performer und Mixed-Media-Künstler\, mit einem Fokus auf immers
 ive und konzeptbasierte Formate.?Eintritt freiBegrenzte Kapazität. Bitte um 
 Anmeldung\n\nViel Spass wünscht Gratis-in-Berlin\n\nLink zum Tip: \nZu den Grat
 is-in-Berlin Angeboten: http://www.gratis-in-berlin.de\n
DTSTART;VALUE=DATE:20260420
DTEND;VALUE=DATE:20260514
SUMMARY:Parallel Syntax | Eröffnung | Immersed in Signal\, Image and Interfere
 nce
END:VEVENT
END:VCALENDAR
