BEGIN:VCALENDAR
VERSION:2.0
PRODID:-//Gratis-in-Berlin//NONSGML kigkonsult.se iCalcreator 2.14//
METHOD:PUBLISH
X-WR-CALNAME:Gratis-in-Berlin Tip Kalender
X-WR-CALDESC:Erhalte Gratis-in-Berlin Tips in deinem Kalender
BEGIN:VEVENT
UID:20260420T141755UTC-8587wXFD93@Gratis-in-Berlin
DTSTAMP:20260420T141755Z
DESCRIPTION:In der Ausstellung ?Künstlerische Intelligenz' stellt Anna C. Hübler die 
 intelligente Ausdruckskraft der Kunst dar.Ihre Arbeiten zeigen\, wie man M
 etaphern\, Zitate und persönliche Beobachtungen auf eine künstlerische Weise inter
 pretieren und somit neue Perspektiven auf bekannte Themen eröffnen kann.Eintr
 itt frei.Vernissage: Freitag\, den 24. April 2026 ab 18 UhrAusstellung vom
  24.4. 2026 bis 22.5. 2026\, Mo-Fr 10-18 UhrAn Feiertagen und Brückentagen blei
 bt die Galerie geschlossen.Ort: Kiezkunstwerkstatt 'made in wedding'\, Kol
 oniestr. 120 in 13359 BerlinÖPNV:U 8/9 Osloer Straße | Bus 255 Soldiner Str.
 /Koloniestr. | Tram M 13 / 50 Drontheimer Str.von: made in weddingMehr Inf
 os im Internet:http://www.made-in-wedding.dehttps://www.instagram.com/kiez
 kunst.made_in_wedding/\n\nViel Spass wünscht Gratis-in-Berlin\n\nLink zum Tip: 
 \nZu den Gratis-in-Berlin Angeboten: http://www.gratis-in-berlin.de\n
DTSTART;VALUE=DATE:20260424
DTEND;VALUE=DATE:20260425
SUMMARY:Anna C. Hübler ? Künstlerische Intelligenz / Malerei
END:VEVENT
END:VCALENDAR
