BEGIN:VCALENDAR
VERSION:2.0
PRODID:-//Gratis-in-Berlin//NONSGML kigkonsult.se iCalcreator 2.14//
METHOD:PUBLISH
X-WR-CALNAME:Gratis-in-Berlin Tip Kalender
X-WR-CALDESC:Erhalte Gratis-in-Berlin Tips in deinem Kalender
BEGIN:VEVENT
UID:20260421T142159UTC-4503zvD1OD@Gratis-in-Berlin
DTSTAMP:20260421T142159Z
DESCRIPTION:11ª EDIZIONE DEL BBA ARTIST PRIZE: OLTRE UN DECENNIO DI SCOPERTE
  DURANTE IL GALLERY WEEKEND DI BERLINO Nel 2015\, BBA ha intrapreso un per
 corso ambizioso che\, oltre un decennio dopo\, si conferma come punto di r
 iferimento culturale fondamentale per il panorama dell'arte contemporanea 
 berlinese. Mentre la città si prepara per il prestigioso Gallery Weekend di 
 Berlino\, l'undicesima edizione del BBA Artist Prize arriva alla BBA Galle
 ry come fulcro di un programma estivo di spicco. Questa edizione storica p
 rosegue una lunga tradizione di valorizzazione dei talenti emergenti e di 
 visibilità globale\, consolidando la reputazione della galleria nell'individ
 uare le voci artistiche più interessanti della prossima generazione. La mostra
  di quest'anno presenta quindici finalisti selezionati da tutto il mondo\,
  riunendo un gruppo davvero internazionale che spazia dalla Cina e dagli S
 tati Uniti alla Germania. La selezione curata presenta opere nuove e audac
 i che abbracciano l'intero spettro della pratica artistica contemporanea\,
  spaziando dalla pittura alla scultura\, dall'installazione alla videoarte
 . Offrendo una piattaforma a una tale varietà di media\, il premio mette in 
 luce la natura in continua evoluzione della scena artistica internazionale
  e offre al pubblico un'opportunità unica di scoprire gli 'artisti di domani
 ' nel cuore di Berlino. Giungere al 2026\, dopo un decennio di successi\, 
 porta con sé una missione ben precisa. Osserviamo che le candidature di ques
 t'anno dimostrano che la sete di narrazione autentica è più forte che mai. La ga
 lleria non considera l'evento semplicemente un concorso\, ma un trampolino
  di lancio fondamentale per la prossima generazione di voci artistiche\, g
 arantendo che i talenti emergenti ricevano il riconoscimento globale che m
 eritano. I visitatori sono invitati ad ammirare le opere di questi quindic
 i finalisti internazionali\, che debutteranno durante uno dei fine settima
 na più importanti del calendario artistico mondiale.\n\nViel Spass wünscht Gratis-i
 n-Berlin\n\nLink zum Tip: \nZu den Gratis-in-Berlin Angeboten: http://www.
 gratis-in-berlin.de\n
DTSTART;VALUE=DATE:20260430
DTEND;VALUE=DATE:20260516
SUMMARY:BBA Artist Prize 2026 Exhibition
END:VEVENT
END:VCALENDAR
