BEGIN:VCALENDAR
VERSION:2.0
PRODID:-//Gratis-in-Berlin//NONSGML kigkonsult.se iCalcreator 2.14//
METHOD:PUBLISH
X-WR-CALNAME:Gratis-in-Berlin Tip Kalender
X-WR-CALDESC:Erhalte Gratis-in-Berlin Tips in deinem Kalender
BEGIN:VEVENT
UID:20260421T181739UTC-6168uVvibl@Gratis-in-Berlin
DTSTAMP:20260421T181739Z
DESCRIPTION:BEHOLD GOD IN ALL THAT EXISTS IN HIS NAMENazanin Noori14.05.202
 6 ?25.04.2027Eröffnung: 13. Mai 2026\, 18:00DJ-Set mit Marylou\, 19:00BEHOLD 
 GOD IN ALL THAT EXISTS IN HIS NAME (dt. ?Erkenne Gott in allen Dingen\, di
 e in seinem Namen existieren?) ist eine von der Berliner Künstlerin Nazanin Noo
 ri geschaffene Installation für die Klosterruine Berlin. Vier leuchtende\, an R
 ollwegweiser erinnernde Module bilden vor den historischen Grabdenkmälern ei
 ne lineare\, etwa zwölf Meter lange Lichtskulptur. Aus ihrem funktionalen Kon
 text gelöst\, verbinden sich die signalorangefarbenen Flächen zu einem durchgeh
 enden Schriftzug\, der den Raum markiert und strukturiert. Die Arbeit setz
 t den ehemaligen Sakralbau der Klosterkirche in Beziehung zu Fragen religi
 öser Zugehörigkeit\, Machtstrukturen und öffentlicher Wahrnehmung. Zugleich greift 
 sie pantheistische Denkmodelle auf\, in denen das Göttliche als immanente Präse
 nz verstanden wird. Der Zusatz ?IN HIS NAME? verweist auf religiöse Sprache a
 ls Instrument von Autorität\, Ausschluss und Hierarchisierung und berührt damit a
 uch Perspektiven feministischer Theologie.\n\nViel Spass wünscht Gratis-in-Berl
 in\n\nLink zum Tip: \nZu den Gratis-in-Berlin Angeboten: http://www.gratis
 -in-berlin.de\n
DTSTART;VALUE=DATE:20260513
DTEND;VALUE=DATE:20260514
SUMMARY:Vernissage - BEHOLD GOD IN ALL THAT EXISTS IN HIS NAME
END:VEVENT
END:VCALENDAR
