BEGIN:VCALENDAR
VERSION:2.0
PRODID:-//Gratis-in-Berlin//NONSGML kigkonsult.se iCalcreator 2.14//
METHOD:PUBLISH
X-WR-CALNAME:Gratis-in-Berlin Tip Kalender
X-WR-CALDESC:Erhalte Gratis-in-Berlin Tips in deinem Kalender
BEGIN:VEVENT
UID:20260424T012826UTC-8348dwOCV1@Gratis-in-Berlin
DTSTAMP:20260424T012826Z
DESCRIPTION:Women's World ist eine Reihe von Kunst-Performance-Abenden\, di
 e seit Januar 2023 zyklisch stattfinden\, erstmals in der Fool Gallery in 
 Berlin. Dabei handelt es sich um durchgeführte Reflexionen zu Themen im Zusamme
 nhang mit Feminismus\, Frauenrechten und Geschlecht.\n\nViel Spass wünscht Grat
 is-in-Berlin\n\nLink zum Tip: https://www.gratis-in-berlin.de/dauerbrenner
 /36-kunst/2078663-women-s-world-7\nZu den Gratis-in-Berlin Angeboten: http
 ://www.gratis-in-berlin.de\n
DTSTART;VALUE=DATE:20260515
DTEND;VALUE=DATE:20260516
SUMMARY:Women`s World 7
END:VEVENT
END:VCALENDAR
