BEGIN:VCALENDAR
VERSION:2.0
PRODID:-//Gratis-in-Berlin//NONSGML kigkonsult.se iCalcreator 2.14//
METHOD:PUBLISH
X-WR-CALNAME:Gratis-in-Berlin Tip Kalender
X-WR-CALDESC:Erhalte Gratis-in-Berlin Tips in deinem Kalender
BEGIN:VEVENT
UID:20260424T141937UTC-1668rdVPrp@Gratis-in-Berlin
DTSTAMP:20260424T141937Z
DESCRIPTION:29.4.-9.5.2026Sehnsucht nach dem Paradies ? Mauri Olavi KeinänenV
 ernissage: Dienstag 28.4. 19:00-21:00 UhrÖffnungszeiten: Dienstag-Samstag 1
 5-19 UhrGalerie PleikuEugen-Schönhaar-Strasse 6a10407 BerlinIn fast jedem Lan
 d gibt es einen botanischen Garten. In diesen Gärten kann man seltsame\, wun
 dervolle und geheimnisvolle Pflanzen sehen\, die in Nordeuropa nicht heimi
 sch sind. Ein botanischer Garten gleicht dem mythischen Paradies\, dem wir
  im Buch Genesis begegnen ? jener Erzählung von Adam und Eva und ihrem Sündenfall
 .Der Psychiater und Phänomenologe Carl Gustav Jung (26.7.1875?5.5.1961) deut
 ete diesen Sündenfall psychologisch als das Erwachen des menschlichen Bewusstse
 ins. Jung sprach auch vom kollektiven Unbewussten. Wenn seine Hypothese wa
 hr ist\, können wir davon ausgehen\, dass in unserem kollektiven Unbewussten 
 eine tiefe Sehnsucht nach dem verlorenen Paradies fortlebt. Diese äußert sic
 h heute im starken Bedürfnis des modernen Menschen\, zur Natur zurückzukehren.Botani
 sche Gärten bedienen dieses unterbewusste menschliche Bedürfnis\, aber sie schützen au
 ch faszinierende Pflanzen ? von denen einige heute vom Aussterben bedroht 
 sind\, da die Regenwälder weiterhin abgeholzt werden.Das biblische Paradies 
 trägt den Namen Eden. Wo es lag\, wissen wir nicht. Da jedoch ähnliche Paradie
 smythen auch in anderen Kulturen Mesopotamiens existieren\, wird angenomme
 n\, dass die biblische Erzählung ebenfalls ein Mythos ist. Dennoch lieferte 
 sie Antworten auf die Fragen nach dem Ursprung des Menschen\, dem Sinn des
  Lebens und dem Tod\, als es noch keine anderen Erklärungen gab.Obwohl meine
  Kunstwerke in dieser Ausstellung gegenständlich sind\, sind sie eher Poesie
  als Realismus. Das gezeigte ?Paradies? oder der ?Garten? ist fiktiv. Die 
 Ausstellung ist in zwei Teile gegliedert: Eine Seite zeigt Schwarz-Weiß-Fot
 ografien\, während die andere Seite farbige Bilder präsentiert. Ich habe die S
 chwarz-Weiß-Fotografien gewählt\, um meine Identität als Fotokünstler zu betonen. Im
  Jahr 1975 studierte ich an der Kunstschule in Lahti bei Pentti Sammallaht
 i\, und für seine Lehre bin ich bis heute dankbar.Mauri Olavi Keinänen***There is
  a botanic garden in almost every country. In these gardens\, you can see 
 strange\, wonderful\, and mysterious plants that do not grow in Northern E
 urope. A botanic garden is like the mythical paradise we encounter in the 
 Book of Genesis\, which tells the story of Adam and Eve and their fall fro
 m grace.Psychiatrist and phenomenologist Carl Gustav Jung (26.7.1875?5.5.1
 961) explained this fall psychologically as the awakening of human conscio
 usness. Jung also spoke of the collective unconscious. If his hypothesis i
 s true\, we can assume that within our collective unconscious lies a subco
 nscious ?longing for paradise? that humanity has lost?a longing that manif
 ests today as a profound need for modern man to return to nature.Botanic g
 ardens serve this subconscious human need\, but they also protect amazing 
 plants\, some of which may even be endangered species as rainforests conti
 nue to be cleared today.The biblical paradise is named Eden. We do not kno
 w its location\, but since similar paradise myths exist in other Mesopotam
 ian cultures\, it is assumed that the biblical story is also a myth. Regar
 dless\, it provided answers to questions about human origins\, the meaning
  of life\, and death when no other explanations existed.Although the artwo
 rks in this exhibition are representational\, they are more poetry than re
 alism. The ?paradise? or ?garden? shown here is fictional. The exhibition 
 is divided into two parts: one side features black and white photographs\,
  while the other features color images. I chose to include black and white
  photographs to emphasize my identity as a photographic artist. In 1975\, 
 I studied at the Lahti Art School under Pentti Sammallahti\, and I remain 
 grateful for his teaching to this day.Mauri Olavi Keinänen\n\nViel Spass wünscht 
 Gratis-in-Berlin\n\nLink zum Tip: \nZu den Gratis-in-Berlin Angeboten: htt
 p://www.gratis-in-berlin.de\n
DTSTART;VALUE=DATE:20260428
DTEND;VALUE=DATE:20260429
SUMMARY:Vernissage:19:00-21:00Uhr / Sehnsucht nach dem Paradies ? Mauri Ola
 vi Keinänen
END:VEVENT
END:VCALENDAR
