BEGIN:VCALENDAR
VERSION:2.0
PRODID:-//Gratis-in-Berlin//NONSGML kigkonsult.se iCalcreator 2.14//
METHOD:PUBLISH
X-WR-CALNAME:Gratis-in-Berlin Tip Kalender
X-WR-CALDESC:Erhalte Gratis-in-Berlin Tips in deinem Kalender
BEGIN:VEVENT
UID:20260423T131148UTC-0922ALVvFV@Gratis-in-Berlin
DTSTAMP:20260423T131148Z
DESCRIPTION:Perfekt geschminkt von morgens bis abends. Kein Verwischen oder
  Verschmieren mehr und in jeder Situation einfach gut aussehen. Mit Perman
 ent Make-Up erübrigt sich das morgendliche Schminkritual im Badezimmer. Doch au
 ch bei dieser Behandlung kann einiges schief gehen. Was es zu beachten gib
 t\, verrät dieser Artikel.WAS IST PERMANENT MAKE-UP?Besonders beliebt ist di
 e&nbsp\;Augenlidbehandlung&nbsp\;Beim Permanent Make-up werden feinste Far
 bpigmente in die oberste Hautschicht implantiert. Auch wenn das Vorgehen p
 rinzipiell dem Tätowieren ähnelt\, unterscheiden sich beide Behandlungen vonei
 nander. Der Tätowierer trägt die Farbpigmente bis in die dritte Hautschicht au
 f. Dadurch ist die Farbe beständiger. Das Permanent Make-up ist eine oberfläch
 liche Behandlung und hält je nach Hauttyp zwei bis fünf Jahre. Das Ergebnis ist d
 aher weniger intensiv\, verblasst aber schneller. Es muss alle paar Jahre 
 wieder aufgefrischt werden.Die Vorgehensweise unterscheidet sich je nach K
 örperstelle. Bei einer Augenbrauenbehandlung wird zwischen kompletter Neugest
 altung und Ergänzung einzelner Lücken unterschieden. Die Augenbrauen sind zuerst 
 in Form zu zupfen und die zu behandelnden Stellen aufzumalen. Microblading
  liegt beim Permanent Make-up momentan voll im Trend. Durch das Nachzeichn
 en einzelner Härchen von Hand\, wirken diese echter. So ist eine vollständige 
 Rekonstruktion der Augenbrauen möglich\, was vor allem Krebspatienten und Unf
 allopfern zugutekommt.&nbsp\;Weitere Behandlungsmöglichkeiten sind die Lippen
 korrektur und Farbauffüllung\, Wimpernkranzverdichtung\, Brustwarzenneugestaltu
 ng und das Auftragen von Schönheitsflecken. Besonders angesagt ist die Augenl
 idbehandlung. Der perfekte Lidstrich durch Permanent Make-up lässt Augen ers
 trahlen. Durch das Auftragen einer zarten Linie auf dem Ober- oder Unterli
 d wirken diese ausdrucksvoller.WIRD DIE ZU BEHANDELNDE STELLE VOR DEM EING
 RIFF BETÄUBT?Einem Kosmetiker ist es gesetzlich untersagt\, Betäubungsmittel 
 zu injizieren. Diese würden außerdem das umliegende Gewebe aufquellen\, was das 
 Ergebnis stark beeinflusst und zu Schönheitsfehlern führt. Aus diesem Grund verwen
 den Kosmetikstudios Salben\, Cremes und Sprays mit dem Inhaltsstoff Lidoca
 in. Dieses betäubt die Haut oberflächlich ohne sie zu verändern.&nbsp\;WELCHE RI
 SIKEN ENTSTEHEN DURCH PERMANENT MAKE-UP?Eine seriöse Kosmetikerin oder ein an
 erkannter Dermatologe erörtert alle Risiken mit dem Patienten und gibt ihm ge
 nügend Bedenkzeit. Dies ist wichtig\, denn auch wenn die Farbe verblasst\, kann
  sie dauerhaft sichtbar bleiben.  Wie auch bei der Tätowierung wird die Haut
  beim Stechen verletzt. Dies kann zu Rötungen\, Schwellungen und Entzündungen führen. A
 ußerdem kann die Farbe eine allergische Reaktion hervorrufen\, was schlimms
 tenfalls zu einem allergischen Schock führen kann.  Das Bundesinstitut für Risikobew
 ertung weist ausdrücklich auf die Wichtigkeit der Hygiene hin. Bakterielle Infe
 ktionen bis hin zu Hepatitis B und C können die Folge fehlender Sauberkeit be
 i der Behandlung sein.Es gibt keine gesetzlichen Bestimmungen für die Pigmentie
 rfarbe. Während die Inhaltsstoffe in Kosmetikprodukten durch das Lebensmitte
 l- und Bedarfsgegenständegesetz geregelt sind\, fallen beim Tätowieren und dem
  Einsatz von Permanent Make-up keine Regelungen an. Die Begründung dafür liegt in de
 r Anwendung:&nbsp\; Während Kosmetikprodukte auf die Haut aufgetragen werden
 \, wird Pigmentierfarbe in die Haut implantiert. Damit ist sie laut Gesetz
  nicht den kosmetischen Mitteln zuzuordnen.&nbsp\;WORAUF SOLLTE BEI&nbsp\;
 PERMANENT MAKE-UP GEACHTET WERDEN?-&nbsp\;&nbsp\;&nbsp\;&nbsp\;&nbsp\;&nbs
 p\;&nbsp\;&nbsp\;&nbsp\; Vor dem ersten Termin ist es ratsam\, Fragen und 
 Unklarheiten zu notiert. Ein Wunschfoto aus dem Internet kann dem Anbieter
  helfen\, die eigenen Vorstellungen zu verwirklichen.  -&nbsp\;&nbsp\;&nbs
 p\;&nbsp\;&nbsp\;&nbsp\;&nbsp\;&nbsp\;&nbsp\; Der behandelnde Arzt oder Ko
 smetiker muss vertrauenswürdig und professionell sein. &nbsp\; &nbsp\; &nbsp\; 
 &nbsp\; Verbände wie Cosmetic Professional e.V. fördern Kosmetiker mit Fortbild
 ungen und helfen Verbrauchern dabei\, seriöse Studios zu finden. -&nbsp\;&nbs
 p\;&nbsp\;&nbsp\;&nbsp\;&nbsp\;&nbsp\;&nbsp\;&nbsp\; Es ist ratsam\, vor d
 er Behandlung einen Kostenvoranschlag anzufordern. Lohn- und Materialkoste
 n\, sowie die zu verwendende Farbe müssen aufgeführt sein. Darüber hinaus sind die benötigte
 n Sitzungen definiert. -&nbsp\;&nbsp\;&nbsp\;&nbsp\;&nbsp\;&nbsp\;&nbsp\;&
 nbsp\;&nbsp\; Die Nachuntersuchung ist äußerst wichtig und gehört zur Behandlun
 g dazu. Vertrauenswürdige Studios vereinbaren umgehend einen Termin zur Kontrol
 le. -&nbsp\;&nbsp\;&nbsp\;&nbsp\;&nbsp\;&nbsp\;&nbsp\;&nbsp\;&nbsp\; Ein P
 rofi malt die zu behandelnden Partien vor dem Stechen auf. Dabei ist auf d
 ie individuelle Form zu achten\, Schablonen passen sich nicht den Gesichts
 zügen an.  -&nbsp\;&nbsp\;&nbsp\;&nbsp\;&nbsp\;&nbsp\;&nbsp\;&nbsp\;&nbsp\; Der
  Farbe der Pigmentierung muss zu der Person passen. Dabei orientiert sich 
 ein Spezialist unter anderem an Haarfarbe und Haut Ton.  -&nbsp\;&nbsp\;&n
 bsp\;&nbsp\;&nbsp\;&nbsp\;&nbsp\;&nbsp\;&nbsp\; Verwendet der Kosmetiker o
 der Dermatologe professionelle Geräte\, kommt es kaum zu Blutungen und die B
 ehandlung wird in der Regel als wenig schmerzvoll empfunden. Bei dem Erstg
 espräch sollte der Kunde sich über die Apparaturen informieren. -&nbsp\;&nbsp\;&n
 bsp\;&nbsp\;&nbsp\;&nbsp\;&nbsp\;&nbsp\;&nbsp\; Wenn möglich ist es ratsam\, 
 Referenzen zu nutzen. Empfehlungen von Freunden\, Bekannten und Familienan
 gehörigen sind vertrauenswürdig. Viele Kosmetikstudios stellen darüber hinaus Fotos ihr
 er Kunden/Kundinnen aus. -&nbsp\;&nbsp\;&nbsp\;&nbsp\;&nbsp\;&nbsp\;&nbsp\
 ;&nbsp\;&nbsp\; Kunden mit einer hohen Wahrscheinlichkeit allergisch zu re
 agieren\, können die Inhaltsstoffe abfragen und mit ihrem Hausarzt oder Derma
 tologen besprechen. Bei Bedarf kann im Vorfeld ein Allergietest angeordnet
  werden.&nbsp\;WELCHE PREISE FALLEN FÜR&nbsp\;PERMANENT MAKE-UP AN?Da diesb
 ezüglich keine gesetzlichen Regelungen bestehen\, können die Preise je nach Studio
  variieren. Oftmals gibt es im Ausland oder auf Internetseiten Behandlunge
 n zum Schnäppchenpreis. Dies können entweder Neueinsteiger\, welche auf der Suc
 he nach Modellen sind oder unseriöse Anbieter sein.  Permanent Make-up vom Pr
 ofi hat seinen Preis. Die Kosten für Pigmentierfarbe und Materialien sind hoch.
  Je professioneller die Geräte\, desto höher liegt der Preis.  Die Preise sind 
 zudem abhängig von der zu behandelnden Stelle. Vor allem beim Einsatz für Augenbr
 auen ist mit extremen Preisschwankungen zu rechnen. Abgerechnet wird je na
 ch Aufwand\, ob nur einzelne Härchen aufzumalen sind oder eine komplette Neu
 gestaltung anfällt. Die Preise liegen zwischen 200 ? - 500 ?.&nbsp\; &nbsp\;
  &nbsp\; &nbsp\; &nbsp\; &nbsp\; &nbsp\;&nbsp\; &nbsp\; &nbsp\; &nbsp\; &n
 bsp\; &nbsp\; Professionelle Studios sind nicht günstigAbbildung 1: Pixabay.com
  © Engin_Akyurt (Pixabay-Lizenz) Abbildung 2: Pixabay.com © Engin_Akyurt (Pi
 xabay-Lizenz)\n\nViel Spass wünscht Gratis-in-Berlin\n\nLink zum Tip: \nZu den 
 Gratis-in-Berlin Angeboten: http://www.gratis-in-berlin.de\n
DTSTART;VALUE=DATE:20231106
DTEND;VALUE=DATE:20231107
SUMMARY:Mit Permanent Make-up jederzeit makellos geschminkt?
END:VEVENT
END:VCALENDAR
