BEGIN:VCALENDAR
VERSION:2.0
PRODID:-//Gratis-in-Berlin//NONSGML kigkonsult.se iCalcreator 2.14//
METHOD:PUBLISH
X-WR-CALNAME:Gratis-in-Berlin Tip Kalender
X-WR-CALDESC:Erhalte Gratis-in-Berlin Tips in deinem Kalender
BEGIN:VEVENT
UID:20260420T000012UTC-9657ptujMj@Gratis-in-Berlin
DTSTAMP:20260420T000012Z
DESCRIPTION:Am Montag als Preview im Freiluftkino gesehen:&nbsp\;?Symphony 
 Of Now' ist eine Hommage an den Stummfilm-Klassiker&nbsp\;?Berlin: Die Sin
 fonie einer Großstadt? von 1927 und natürlich auch an die Stad Berlin. Ähnlich wi
 e im Original mit&nbsp\;schnellen Schnittfolgen\, die Fassaden\, Plätze\, ab
 er auch Menschen zeigen\, alles immer in Bewegung\, immer voll interessant
 er Details\, man kommt kaum hinterher.&nbsp\;Satt Orchestermusik auch der 
 Soundtrack des Hier und Jetzt: Techno\, House\, Hip Hop\, Wave und Krautro
 ck:&nbsp\;Frank Wiedemann\, Modeselektor\, Hans Joachim Rodelius\, Thomas 
 Fehlmann\, Gudrun Gut u.a.Wie das Oringal in merhrere Akte unterteilt und 
 65 Minuten lang\, mutet der Film von Regisseur&nbsp\;Johannes Schaff viell
 eicht&nbsp\;manchmal etwas wie ein professioneller Berlin-Werbeclip an\, a
 ber er hat durchaus das Zeug zum neuen Berlin-Kultfilm - diesmal eben für die G
 eneration Techno.\n&nbsp\;Anmerkung: Dies ist ein redaktionell ausgewähltes 
 kostenpflichtiges Event für unsere Blog- Rubrik 'Mehr als gratis\, aber genial'
  (per Klick auf diesen Rubrik-Namen in Fettschrift wird erklärt\, warum es m
 anchmal Tips wie diesen gibt und wie klar sie dann gekennzeichnet sind).\n
 \nViel Spass wünscht Gratis-in-Berlin\n\nLink zum Tip: \nZu den Gratis-in-Berli
 n Angeboten: http://www.gratis-in-berlin.de\n
DTSTART;VALUE=DATE:20180712
DTEND;VALUE=DATE:20180730
SUMMARY:Filmstart: Symphony Of Now  [kostenpflichtig\, Kino-Eintritt]
END:VEVENT
END:VCALENDAR
