BEGIN:VCALENDAR
VERSION:2.0
PRODID:-//Gratis-in-Berlin//NONSGML kigkonsult.se iCalcreator 2.14//
METHOD:PUBLISH
X-WR-CALNAME:Gratis-in-Berlin Tip Kalender
X-WR-CALDESC:Erhalte Gratis-in-Berlin Tips in deinem Kalender
BEGIN:VEVENT
UID:20260421T102308UTC-60589cJtvP@Gratis-in-Berlin
DTSTAMP:20260421T102308Z
DESCRIPTION:Auf dem Parkdeck C des Gesundbrunnen Centers eine einzigartige 
 Mischung aus Flohmarkt\, Designmarkt und Street-Food-Festival.&nbsp\;Am Fr
 eitagvon 17 bis 22 Uhr und am Samstag von 12 bis 20 Uhr warten Entdeckunge
 n\, Essen\, Musik und natürlich ein toller Ausblick über den Dächern von Berlin.Anmerk
 ung: Dies ist ein redaktionell ausgewähltes kostenpflichtiges Angebot für unsere 
 Blog- Rubrik 'Mehr als gratis\, aber genial' (per Klick auf diesen Rubrik-
 Namen in Fettschrift wird erklärt\, warum es manchmal Tips wie diesen gibt u
 nd wie klar sie dann gekennzeichnet sind).\n\nViel Spass wünscht Gratis-in-Berl
 in\n\nLink zum Tip: https://www.gratis-in-berlin.de/kalender/item/2072582-
 rooftop-flohmarkt-2-euro-eintritt\nZu den Gratis-in-Berlin Angeboten: http
 ://www.gratis-in-berlin.de\n
DTSTART;VALUE=DATE:20250926
DTEND;VALUE=DATE:20250928
SUMMARY:Rooftop Flohmarkt  [2 Euro Eintritt]
END:VEVENT
END:VCALENDAR
