BEGIN:VCALENDAR
VERSION:2.0
PRODID:-//Gratis-in-Berlin//NONSGML kigkonsult.se iCalcreator 2.14//
METHOD:PUBLISH
X-WR-CALNAME:Gratis-in-Berlin Tip Kalender
X-WR-CALDESC:Erhalte Gratis-in-Berlin Tips in deinem Kalender
BEGIN:VEVENT
UID:20260423T145608UTC-5301EbZWBf@Gratis-in-Berlin
DTSTAMP:20260423T145608Z
DESCRIPTION:Die beiden Retro-Tennis-Ikoninnen und Nummer Einsen der Weltran
 gliste Martina Hingis und Lindsay Davenport duellieren sich am Sonntag ab 
 14 Uhr in der Havellandhalle.\n\nEintritt frei!\n\nOffentliche Verkehrsmit
 tel.\nBus 639 Rathaus Spandau - Seeburg Havellandhalle - Potsdam\nBus 604 
 Falkensee - Seeburg - Potsdam\n\nKostenloser Shuttle-Bus ab Berlin und Pot
 sdam.\n\n\n\nViel Spass wünscht Gratis-in-Berlin\n\nLink zum Tip: \nZu den Grat
 is-in-Berlin Angeboten: http://www.gratis-in-berlin.de\n
DTSTART;VALUE=DATE:20100117
DTEND;VALUE=DATE:20100118
SUMMARY:Tennis kostenlos in Havellandhalle: Martina Hingis gegen Lindsay Da
 venport
END:VEVENT
END:VCALENDAR
